BEGIN:VCALENDAR
VERSION:2.0
PRODID:-//Bâtiment 7 - ECPv6.15.20//NONSGML v1.0//EN
CALSCALE:GREGORIAN
METHOD:PUBLISH
X-ORIGINAL-URL:https://www.batiment7.org
X-WR-CALDESC:Événements pour Bâtiment 7
REFRESH-INTERVAL;VALUE=DURATION:PT1H
X-Robots-Tag:noindex
X-PUBLISHED-TTL:PT1H
BEGIN:VTIMEZONE
TZID:America/New_York
BEGIN:DAYLIGHT
TZOFFSETFROM:-0500
TZOFFSETTO:-0400
TZNAME:EDT
DTSTART:20250309T070000
END:DAYLIGHT
BEGIN:STANDARD
TZOFFSETFROM:-0400
TZOFFSETTO:-0500
TZNAME:EST
DTSTART:20251102T060000
END:STANDARD
BEGIN:DAYLIGHT
TZOFFSETFROM:-0500
TZOFFSETTO:-0400
TZNAME:EDT
DTSTART:20260308T070000
END:DAYLIGHT
BEGIN:STANDARD
TZOFFSETFROM:-0400
TZOFFSETTO:-0500
TZNAME:EST
DTSTART:20261101T060000
END:STANDARD
BEGIN:DAYLIGHT
TZOFFSETFROM:-0500
TZOFFSETTO:-0400
TZNAME:EDT
DTSTART:20270314T070000
END:DAYLIGHT
BEGIN:STANDARD
TZOFFSETFROM:-0400
TZOFFSETTO:-0500
TZNAME:EST
DTSTART:20271107T060000
END:STANDARD
END:VTIMEZONE
BEGIN:VEVENT
DTSTART;TZID=America/New_York:20260317T193000
DTEND;TZID=America/New_York:20260317T220000
DTSTAMP:20260424T063039
CREATED:20260313T194129Z
LAST-MODIFIED:20260313T194129Z
UID:10001147-1773775800-1773784800@www.batiment7.org
SUMMARY:St. Patrick Jam - Session Musique aux sans-taverne
DESCRIPTION:Les musiciens des sessions de musique traditionnelle du dimanche du Café Dépanneur et de Kate’s Kitchen sont invités à organiser une session trad\, le mardi 17 mars au soir\, aux sans-taverne\, Batiment 7. La session débutera à 19h30. Tous sont les bienvenus !
URL:https://www.batiment7.org/event/st-patrick-jam-session-musique-aux-sans-taverne/
LOCATION:les sans-taverne\, 1900 rue Le Ber\, Montréal\, Qc\, Canada
END:VEVENT
END:VCALENDAR