BEGIN:VCALENDAR
VERSION:2.0
PRODID:-//Bâtiment 7 - ECPv6.15.20//NONSGML v1.0//EN
CALSCALE:GREGORIAN
METHOD:PUBLISH
X-ORIGINAL-URL:https://www.batiment7.org
X-WR-CALDESC:Événements pour Bâtiment 7
REFRESH-INTERVAL;VALUE=DURATION:PT1H
X-Robots-Tag:noindex
X-PUBLISHED-TTL:PT1H
BEGIN:VTIMEZONE
TZID:America/New_York
BEGIN:DAYLIGHT
TZOFFSETFROM:-0500
TZOFFSETTO:-0400
TZNAME:EDT
DTSTART:20250309T070000
END:DAYLIGHT
BEGIN:STANDARD
TZOFFSETFROM:-0400
TZOFFSETTO:-0500
TZNAME:EST
DTSTART:20251102T060000
END:STANDARD
BEGIN:DAYLIGHT
TZOFFSETFROM:-0500
TZOFFSETTO:-0400
TZNAME:EDT
DTSTART:20260308T070000
END:DAYLIGHT
BEGIN:STANDARD
TZOFFSETFROM:-0400
TZOFFSETTO:-0500
TZNAME:EST
DTSTART:20261101T060000
END:STANDARD
BEGIN:DAYLIGHT
TZOFFSETFROM:-0500
TZOFFSETTO:-0400
TZNAME:EDT
DTSTART:20270314T070000
END:DAYLIGHT
BEGIN:STANDARD
TZOFFSETFROM:-0400
TZOFFSETTO:-0500
TZNAME:EST
DTSTART:20271107T060000
END:STANDARD
END:VTIMEZONE
BEGIN:VEVENT
DTSTART;TZID=America/New_York:20260319T170000
DTEND;TZID=America/New_York:20260319T210000
DTSTAMP:20260424T033618
CREATED:20260204T163649Z
LAST-MODIFIED:20260204T163659Z
UID:10001121-1773939600-1773954000@www.batiment7.org
SUMMARY:Par et pour: soirée de travail du métal pour personnes queer & racialisées
DESCRIPTION:Tout au long de l’année à venir\, notre atelier sera réservé chaque troisième jeudi du mois à des rencontres destinées aux personnes queer et racialisées.\n\nParce que le travail du métal peut parfois être dissuasif ou excluant\, ces moments ont pour objectif de se réapproprier les outils\, les savoirs et l’espace\, tout en créant collectivement dans un cadre bienveillant.\n\nL’atelier sera ouvert et accompagné par Negar Nakhai\, artiste interdisciplinaire et ancien·ne membre de notre équipe technique\, qui offrira un soutien technique au besoin.\n\nQue ce soit pour découvrir l’atelier pour la première fois\, poser vos questions\, avancer sur vos projets personnels\, tisser des liens avec d’autres membres ou simplement partager un moment ensemble\, vous êtes les bienvenu·e·s.\n\nInfos pratiques\n\nCoût d’accès à l’atelier: L’accès à l’atelier est à contribution volontaire (PWYC)\n\nCoût des matériaux : Les éléments suivants sont disponibles gratuitement: chutes de métal\, métal d’apport et gaz de protection (pour le soudage MIG et TIG)\, ainsi que les consommables usagés. Les autres matériaux et consommables sont disponibles à nos tarifs habituels.\n\nQuand ? Chaque troisième jeudi du mois\, de 17h à 21h\n\n19 février\n\n19 mars\n\n23 avril\n\n21 mai\n\n18 juin\n\nOù ? 1900\, rue Le Ber\, local 205\, Montréal\n\nLa capacité étant limitée à 10 personnes\, nous vous invitons à remplir un court formulaire Google afin de réserver votre place.\n\n\n\n\n\n\n\n\n\n\n\n\n\n\n\n\n\n\n\n\n\n\n\n—–\n\n\n \n\n\n\nThroughout the coming year\, our shop will be reserved every third Thursday of the month for a gathering for queer and racialized people.\n\nBecause working with metal can sometimes feel intimidating or exclusionary\, these sessions are meant to reclaim metalworking tools\, knowledge\, and space\, while creating together in a supportive environment.\n\nThe shop will be open and led by Negar Nakhai\, an interdisciplinary artist and former member of our technical team\, who will provide technical assistance if needed.\n\nWhether you want to discover the studio for the first time\, ask questions\, work on personal projects\, connect with other members\, or simply enjoy spending time together\, you are welcome to join us.\n\nPractical Info\n\nCost of shop access: Shop access is pay-what-you-can (PWYC).\n\nCost of materials: The following are available for free: offcut metals\, filler metal and shielding gas (for MIG and TIG welding)\, and used consumables. Other materials and consumables are available at our regular rates.\n\nWhen: Every third Thursday of the month\, from 5:00 PM to 9:00 PM\n\nfebruary 19\n\nmarch 19\n\napril 23\n\nmay 21\n\njune 18\n\nWhere: 1900 Rue Le Ber\, Studio 205\, Montreal\n\nCapacity is limited to 10 people\, so we encourage you to fill out a short Google form to reserve your spot.
URL:https://www.batiment7.org/event/par-et-pour-soiree-de-travail-du-metal-pour-personnes-queer-racialisees/2026-03-19/
LOCATION:Atelier La Coulée\, 1900 rue Le Ber\, Montréal\, Qc\, H3K2A4\, Canada
CATEGORIES:Art,Métal,Visite
ATTACH;FMTTYPE=image/png:https://www.batiment7.org/wp-content/uploads/2026/02/Affiche-par-pour-FR-1.png
ORGANIZER;CN="Atelier La Coul%C3%A9e":MAILTO:info@atelierlacoulee.org
END:VEVENT
BEGIN:VEVENT
DTSTART;TZID=America/New_York:20260319T180000
DTEND;TZID=America/New_York:20260319T200000
DTSTAMP:20260424T033618
CREATED:20260303T163908Z
LAST-MODIFIED:20260303T164024Z
UID:10001139-1773943200-1773950400@www.batiment7.org
SUMMARY:LANCEMENT | CHEZ ELLES | Camille Toffoli
DESCRIPTION:Nous vous invitons au lancement de 𝑪𝒉𝒆𝒛 𝒆𝒍𝒍𝒆𝒔. 𝑯𝒊𝒔𝒕𝒐𝒊𝒓𝒆𝒔 𝒅𝒆 𝒓𝒆́𝒔𝒊𝒔𝒕𝒂𝒏𝒄𝒆 𝒂𝒖 𝒕𝒆𝒎𝒑𝒔 𝒅𝒆 𝒍𝒂 𝒄𝒓𝒊𝒔𝒆 𝒅𝒖 𝒍𝒐𝒈𝒆𝒎𝒆𝒏𝒕 de Camille Toffoli\, illustré par Isabelle Caron.\n JEUDI 19 MARS à 18hAU SANS-TAVERNE | 1900\, rue le Ber \nVous avez dit 𝘩𝘺𝘨𝘨𝘦\, 𝘯𝘦𝘴𝘵𝘪𝘯𝘨 ou cocon meublé avec goût ? Tandis que les injonctions mercantiles au bonheur domestique saturent les écrans\, la question du logement\, elle\, se dépolitise. Pour ne pas finir à la rue\, la classe politique suggère d’investir en immobilier. Voilà la solution!\nFace à la réalité brutale de la crise actuelle\, Camille Toffoli et l’illustratrice Isabelle Caron partent à la rencontre de locataires et de chercheuses pour exposer les failles d’un marché privé qui sacrifie l’humain – particulièrement les femmes et les communautés marginalisées – sur l’autel du profit.\nEntre récits de résistance contre l’embourgeoisement et exploration de modèles alternatifs\, se dessine un changement radical de paradigme: déconstruire le lien entre chez-soi et propriété pour faire du droit au logement un véritable pilier féministe.\n–\nhttps://www.editions-rm.ca/livres/chez-elles/…
URL:https://www.batiment7.org/event/lancement-chez-elles-camille-toffoli/
LOCATION:les sans-taverne\, 1900 rue Le Ber\, Montréal\, Qc\, Canada
CATEGORIES:Lancement,Lecture
ATTACH;FMTTYPE=image/jpeg:https://www.batiment7.org/wp-content/uploads/2026/03/lancement-1.jpg
END:VEVENT
END:VCALENDAR