BEGIN:VCALENDAR
VERSION:2.0
PRODID:-//Bâtiment 7 - ECPv6.15.20//NONSGML v1.0//EN
CALSCALE:GREGORIAN
METHOD:PUBLISH
X-WR-CALNAME:Bâtiment 7
X-ORIGINAL-URL:https://www.batiment7.org
X-WR-CALDESC:Événements pour Bâtiment 7
REFRESH-INTERVAL;VALUE=DURATION:PT1H
X-Robots-Tag:noindex
X-PUBLISHED-TTL:PT1H
BEGIN:VTIMEZONE
TZID:America/New_York
BEGIN:DAYLIGHT
TZOFFSETFROM:-0500
TZOFFSETTO:-0400
TZNAME:EDT
DTSTART:20250309T070000
END:DAYLIGHT
BEGIN:STANDARD
TZOFFSETFROM:-0400
TZOFFSETTO:-0500
TZNAME:EST
DTSTART:20251102T060000
END:STANDARD
BEGIN:DAYLIGHT
TZOFFSETFROM:-0500
TZOFFSETTO:-0400
TZNAME:EDT
DTSTART:20260308T070000
END:DAYLIGHT
BEGIN:STANDARD
TZOFFSETFROM:-0400
TZOFFSETTO:-0500
TZNAME:EST
DTSTART:20261101T060000
END:STANDARD
BEGIN:DAYLIGHT
TZOFFSETFROM:-0500
TZOFFSETTO:-0400
TZNAME:EDT
DTSTART:20270314T070000
END:DAYLIGHT
BEGIN:STANDARD
TZOFFSETFROM:-0400
TZOFFSETTO:-0500
TZNAME:EST
DTSTART:20271107T060000
END:STANDARD
END:VTIMEZONE
BEGIN:VEVENT
DTSTART;TZID=America/New_York:20260420T180000
DTEND;TZID=America/New_York:20260420T193000
DTSTAMP:20260420T014553
CREATED:20260121T204353Z
LAST-MODIFIED:20260121T204353Z
UID:10001065-1776708000-1776713400@www.batiment7.org
SUMMARY:Groupe de soutien d'hommes
DESCRIPTION:Groupe de soutien d’hommes\nÀ quoi s’attendre\n\nLe groupe de soutien émotionnel pour les hommes offre un espace confidentiel et sans jugement où les hommes jeunes et plus âgés peuvent se réunir pour discuter de santé mentale\, partager leurs expériences et se soutenir les uns les autres. Nous comprenons que le fait d’être un homme dans le monde d’aujourd’hui s’accompagne de son propre lot de défis\, et ce groupe vise à aborder ces défis de manière ouverte et constructive. Il est important de noter qu’il s’agit d’un espace trans-inclusif.\n\n\nDétails : Gratuit\n\n– Langue : La discussion sera animée en anglais\, mais les participants sont invités à s’exprimer en anglais et en français.\n– Lieu: Salle de Réunion (2ieme étage)\, Bâtiment 7\n– Inscription : Oui\n– Places : Limité\n– Âge : 18 ans et plus\n\n………………\n\nMen’s support group\n\n\nWhat to Expect\n\nThe Men’s Emotional Support Group offers a confidential and non-judgmental space where young and older men can come together to discuss mental health\, share experiences\, and support one another. We understand that being a man in today’s world comes with its own set of challenges\, and this group aims to address these challenges in an open and constructive manner. It’s important to note that this is a trans-inclusive space.\n\n\nDetails: Free\n\n– Language: The discussion will be moderated in English\, but participants are welcome to speak in both English and French.\n– Location: Batiment 7\, Meeting Room (2nd floor)\n– Registration: Yes\n– Places: Limited\n– Age: 18+
URL:https://www.batiment7.org/event/groupe-de-soutien-dhommes-5/2026-04-20/
LOCATION:Salle de Réunion\, 1900 Rue Le Ber Montréal\, Montréal\, Québec\, H3K 2A4\, Canada
CATEGORIES:Groupe de support
ATTACH;FMTTYPE=image/jpeg:https://www.batiment7.org/wp-content/uploads/2025/09/Men-Support-EN2025-2.jpg
ORGANIZER;CN="Ventsislav Tomov":MAILTO:ventislav.tomov@mail.mcgill.ca
END:VEVENT
END:VCALENDAR