BEGIN:VCALENDAR
VERSION:2.0
PRODID:-//Bâtiment 7 - ECPv6.15.20//NONSGML v1.0//EN
CALSCALE:GREGORIAN
METHOD:PUBLISH
X-WR-CALNAME:Bâtiment 7
X-ORIGINAL-URL:https://www.batiment7.org
X-WR-CALDESC:Événements pour Bâtiment 7
REFRESH-INTERVAL;VALUE=DURATION:PT1H
X-Robots-Tag:noindex
X-PUBLISHED-TTL:PT1H
BEGIN:VTIMEZONE
TZID:America/New_York
BEGIN:DAYLIGHT
TZOFFSETFROM:-0500
TZOFFSETTO:-0400
TZNAME:EDT
DTSTART:20250309T070000
END:DAYLIGHT
BEGIN:STANDARD
TZOFFSETFROM:-0400
TZOFFSETTO:-0500
TZNAME:EST
DTSTART:20251102T060000
END:STANDARD
BEGIN:DAYLIGHT
TZOFFSETFROM:-0500
TZOFFSETTO:-0400
TZNAME:EDT
DTSTART:20260308T070000
END:DAYLIGHT
BEGIN:STANDARD
TZOFFSETFROM:-0400
TZOFFSETTO:-0500
TZNAME:EST
DTSTART:20261101T060000
END:STANDARD
BEGIN:DAYLIGHT
TZOFFSETFROM:-0500
TZOFFSETTO:-0400
TZNAME:EDT
DTSTART:20270314T070000
END:DAYLIGHT
BEGIN:STANDARD
TZOFFSETFROM:-0400
TZOFFSETTO:-0500
TZNAME:EST
DTSTART:20271107T060000
END:STANDARD
END:VTIMEZONE
BEGIN:VEVENT
DTSTART;TZID=America/New_York:20260422T080000
DTEND;TZID=America/New_York:20260422T170000
DTSTAMP:20260422T054758
CREATED:20260331T223929Z
LAST-MODIFIED:20260331T223929Z
UID:10001163-1776844800-1776877200@www.batiment7.org
SUMMARY:CLUB DE LECTURE animé par Bruno Dubuc
DESCRIPTION:www.upopmontreal.com\n𝐏𝐫𝐞́𝐬𝐞𝐧𝐭𝐚𝐭𝐢𝐨𝐧 – 𝐂𝐥𝐮𝐛 𝐝𝐞 𝐥𝐞𝐜𝐭𝐮𝐫𝐞 𝐝𝐞 « 𝐍𝐨𝐭𝐫𝐞 𝐜𝐞𝐫𝐯𝐞𝐚𝐮 à 𝐭𝐨𝐮𝐬 𝐥𝐞𝐬 𝐧𝐢𝐯𝐞𝐚𝐮𝐱. 𝐃𝐮 𝐁𝐢𝐠 𝐁𝐚𝐧𝐠 à 𝐥𝐚 𝐜𝐨𝐧𝐬𝐜𝐢𝐞𝐧𝐜𝐞 𝐬𝐨𝐜𝐢𝐚𝐥𝐞 »En octobre 2024 paraissait mon livre « Notre cerveau à tous les niveaux. Du Big Bang à la conscience sociale » (Écosociété)\, fruit de quatre années de travail inspirées de mes billets de blogue hebdomadaires sur les sciences cognitives et de mon site web sur le fonctionnement de base du cerveau humain. Mais malgré la forme dialoguée du livre et tous mes efforts de vulgarisation scientifique\, les thématiques abordées\, vastes et complexes\, font que ce bouquin n’est pas tout à fait ce qu’on pourrait appeler une « petite lecture d’été pour la plage »\, comme me l’ont fait remarquer certaines personnes…
URL:https://www.batiment7.org/event/club-de-lecture-anime-par-bruno-dubuc/
LOCATION:les sans-taverne\, 1900 rue Le Ber\, Montréal\, Qc\, Canada
CATEGORIES:Bière,Conférence
ATTACH;FMTTYPE=image/jpeg:https://www.batiment7.org/wp-content/uploads/2026/03/upop.jpg
END:VEVENT
BEGIN:VEVENT
DTSTART;TZID=America/New_York:20260422T180000
DTEND;TZID=America/New_York:20260422T184500
DTSTAMP:20260422T054758
CREATED:20260120T221838Z
LAST-MODIFIED:20260120T221838Z
UID:10001045-1776880800-1776883500@www.batiment7.org
SUMMARY:Zumba pour le plaisir de bouger
DESCRIPTION:Zumba pour le plaisir de bouger\n Zumba au Bâtiment 7  \nEnvie de danser\, de vous défouler et de vous amuser ? \n\nUn cours de danse festif\, énergique et ouvert à tous les niveaux !  avec Zumba Lyla\n\n Le mercredi de 18h à 18h45\nDans le Grand Atelier au 2e étage\n\n Inscription à la carte\n\n Abonnement mensuel\n\nAmenez votre énergie\, vos ami·e·s\, votre bonne humeur\, votre eau\, vos souliers confortables et laissez-vous emporter par la musique !\n\nViens bouger avec nous ! \n\n Bâtiment 7\, 1900 rue Leber\n\nVous êtes les bienvenu·es tous les mercredis dans le Grand Atelier au 2e étage.\n\n*******************************************************\nZumba for the joy of moving \n Zumba at Bâtiment 7 Feel like dancing\, letting loose\, and having fun? \nA festive\, high-energy dance class open to all levels!  With Zumba Lyla. \nWednesdays from 6:00 to 6:45 pmIn the Grand Atelier\, 2nd floor \n Drop-in registration \n Monthly membership \nBring your energy\, your friends\, your good vibes\, your water bottle\, and comfortable shoes—and let the music carry you away! \nCome move with us!  \n Bâtiment 7\, 1900 rue Leber \nYou’re welcome every Wednesday in the Grand Atelier on the 2nd floor.
URL:https://www.batiment7.org/event/zumba-pour-le-plaisir-de-bouger-2/2026-04-22/
LOCATION:Bâtiment 7\, 1900 rue Le Ber\, Montréal\, Québec\, H3K2A4\, Canada
CATEGORIES:Cours,Danse,Zumba
ATTACH;FMTTYPE=image/jpeg:https://www.batiment7.org/wp-content/uploads/2025/11/6db4c84c-031d-4a15-a7eb-a83dc0faca34.jpeg
END:VEVENT
BEGIN:VEVENT
DTSTART;TZID=America/New_York:20260422T180000
DTEND;TZID=America/New_York:20260422T193000
DTSTAMP:20260422T054758
CREATED:20260120T203030Z
LAST-MODIFIED:20260120T203031Z
UID:10000841-1776880800-1776886200@www.batiment7.org
SUMMARY:Visite guidée du Bâtiment 7 !
DESCRIPTION:Visite guidée du Bâtiment 7 !\nTu es nouveau.elle dans le quartier ? \nTu es juste curieux.se de ce qui se passe au Bâtiment 7 ?\n\nTu veux venir comprendre comment fonctionnent les ateliers collaboratifs du collectif 7 A Nous ?\n\nViens avec nous\, on t’embarque dans une visite guidée du Bâtiment 7 !\n\nLe dernier mercredi de chaque mois\, un.e membre du Bâtiment 7 te fait le tour de la propriété collective de Pointe Saint-Charles.\n\nC’est gratuit\, inscris toi !\n\n N’oublies pas des vêtements chauds car nous faisons le tour du bâtiment. La visite n’est pas accessible pour les personnes en mobilité réduites au vue du chemin à parcourir à l’extérieur de la visite. *******************************************\nAre you new to the neighborhood? \nJust curious about what’s happening at Bâtiment 7? \nDo you want to learn how the collaborative workshops of the 7 À Nous collective work? \nCome join us for a guided tour of Bâtiment 7! \nOn the last Wednesday of every month\, a member of Bâtiment 7 will take you on a tour of the collective property in Pointe-Saint-Charles. \nIt’s free — sign up! \nDon’t forget to wear warm clothes\, as the tour goes around the outside of the building.Please note: the visit is not accessible to people with reduced mobility due to the outdoor route.
URL:https://www.batiment7.org/event/visite-guidee-du-batiment-7-3-2/2026-04-22/
LOCATION:Bâtiment 7\, 1900 rue Le Ber\, Montréal\, Québec\, H3K2A4\, Canada
CATEGORIES:Portes ouvertes
ATTACH;FMTTYPE=image/jpeg:https://www.batiment7.org/wp-content/uploads/2025/11/large_training_image.jpeg
ORGANIZER;CN="B%C3%A2timent 7":MAILTO:info@batiment7.org
END:VEVENT
BEGIN:VEVENT
DTSTART;TZID=America/New_York:20260422T190000
DTEND;TZID=America/New_York:20260422T200000
DTSTAMP:20260422T054758
CREATED:20260120T220852Z
LAST-MODIFIED:20260120T220923Z
UID:10001009-1776884400-1776888000@www.batiment7.org
SUMMARY:Yoga pour votre bien-être
DESCRIPTION:🧘‍♀️ Yoga pour votre bien-être🧘‍♂️\nRecentrez-vous grâce au yoga ! \nLe yoga\, c’est bien plus qu’un simple exercice physique : c’est une véritable pause pour vous\, un moment d’écoute intérieure\, de mouvement conscient et de transformation douce.\n\n✨ Réduisez le stress\,\n\n✨ Améliorez votre mobilité\,\n\n✨ Renforcez votre corps\,\n\n✨ Et surtout… retrouvez un lien profond avec vous-même.\n\nPeu importe que vous soyez débutant·e curieux·se ou pratiquant·e régulier·e : chaque cours est pensé pour s’adapter à votre rythme\, votre corps et votre énergie du moment.\n\nDans une ambiance chaleureuse et inclusive\, vous serez guidé·e avec bienveillance\, sans pression. 📍\n\n📌 Tous les mercredis à 19h \n\nLe Grand Atelier – 2e étage – Bâtiment 7\n1900 rue Leber\, Montréal\, H3K 2A4\n\n💰 Tarif \n\n📝 Inscription en ligne :\n\nInscription à la carte\n\nAbonnement mensuel\n\n🧘‍♀️ Un moment pour vous. Une communauté pour tous. Venez comme vous êtes !
URL:https://www.batiment7.org/event/yoga-pour-votre-bien-etre/2026-04-22/
LOCATION:Grand Atelier
CATEGORIES:Yoga
ATTACH;FMTTYPE=image/jpeg:https://www.batiment7.org/wp-content/uploads/2025/11/517035274_1187924360037755_5448611964449534120_n.jpg
ORGANIZER;CN="B%C3%A2timent 7":MAILTO:info@batiment7.org
END:VEVENT
END:VCALENDAR