BEGIN:VCALENDAR
VERSION:2.0
PRODID:-//Bâtiment 7 - ECPv6.15.20//NONSGML v1.0//EN
CALSCALE:GREGORIAN
METHOD:PUBLISH
X-WR-CALNAME:Bâtiment 7
X-ORIGINAL-URL:https://www.batiment7.org
X-WR-CALDESC:Événements pour Bâtiment 7
REFRESH-INTERVAL;VALUE=DURATION:PT1H
X-Robots-Tag:noindex
X-PUBLISHED-TTL:PT1H
BEGIN:VTIMEZONE
TZID:America/New_York
BEGIN:DAYLIGHT
TZOFFSETFROM:-0500
TZOFFSETTO:-0400
TZNAME:EDT
DTSTART:20250309T070000
END:DAYLIGHT
BEGIN:STANDARD
TZOFFSETFROM:-0400
TZOFFSETTO:-0500
TZNAME:EST
DTSTART:20251102T060000
END:STANDARD
BEGIN:DAYLIGHT
TZOFFSETFROM:-0500
TZOFFSETTO:-0400
TZNAME:EDT
DTSTART:20260308T070000
END:DAYLIGHT
BEGIN:STANDARD
TZOFFSETFROM:-0400
TZOFFSETTO:-0500
TZNAME:EST
DTSTART:20261101T060000
END:STANDARD
BEGIN:DAYLIGHT
TZOFFSETFROM:-0500
TZOFFSETTO:-0400
TZNAME:EDT
DTSTART:20270314T070000
END:DAYLIGHT
BEGIN:STANDARD
TZOFFSETFROM:-0400
TZOFFSETTO:-0500
TZNAME:EST
DTSTART:20271107T060000
END:STANDARD
END:VTIMEZONE
BEGIN:VEVENT
DTSTART;TZID=America/New_York:20260206T180000
DTEND;TZID=America/New_York:20260206T220000
DTSTAMP:20260422T072812
CREATED:20260121T210847Z
LAST-MODIFIED:20260121T212839Z
UID:10001068-1770400800-1770415200@www.batiment7.org
SUMMARY:[Ateliers du B7] - Accréditation Bois
DESCRIPTION:[Ateliers du B7] – Accréditation Bois\nCette accréditation de 4h avec un professeur s’adresse à toutes les personnes ayant des bases dans le travail du bois qui désirent devenir un.e utilisateur.trice de l’atelier de bois afin de valider vos compétences et/ou d’en apprendre plus sur l’utilisation des machines se trouvant à l’atelier.\n\nVous serez en petit groupe de 5 personnes.\n\nLe.la membre sur place vous fournira un modèle d’un objet simple à recréer afin de vérifier votre niveau d’aisance avec la scie onglet\, la scie à ruban\, la perceuse à colonne\, la sableuse à bande\, le router et le banc de scie.\n\nDurant cette période\, les règles de sécurité générales ainsi que le fonctionnement de l’atelier vous seront également présentés.\n\nNote: s’il vous manque les connaissances pour ces machines\, il est possible de passer l’accréditation quand même puisque le ou la formatrice vous montrera comment faire.\n\nObligatoire : Apporte des chaussures fermées\n\nRecommandations : Des lunettes de sécurité\, vêtements ajustés et non amples\, ainsi qu’un casque anti-bruit si possible (nous fournirons des bouchons d’oreilles si vous n’avez pas un casque anti-bruit).\n\nLangues : Français et anglais\n\n \n\n 	– – – – – –\n\nWood Workshop accreditation\n\nThis 4-hour accreditation with a teacher is aimed at anyone with a basic knowledge of woodworking who would like to become a user of the wood workshop to validate your skills and/or learn more about the use of the machines in the workshop.\n\nYou will be in a small group of 4 people.\n\nThe on-site member will provide you with a model of a simple object to recreate in order to check your comfort level with the miter saw\, band saw\, drill press\, belt sander\, router and saw bench.\n\nDuring this time\, you’ll also be introduced to general safety rules and shop operations.\n\nNote: if you lack the knowledge for these machines\, it’s possible to take the certification anyway\, as the trainer will show you how.\n\nMandatory: Bring closed-toe shoes !\n\nRecommended: Safety goggles\, tight-fitting\, loose-fitting clothing and earmuffs if possible (we’ll provide earplugs if you don’t have earmuffs).\n\nLanguages : english and french
URL:https://www.batiment7.org/event/accreditation-de-latelier-bois-2/2026-02-06/
LOCATION:Atelier Bois
CATEGORIES:Accréditation
ATTACH;FMTTYPE=image/jpeg:https://www.batiment7.org/wp-content/uploads/2025/10/bois_training_image.jpg
ORGANIZER;CN="Atelier Bois":MAILTO:atelier.bois@batiment7.org
END:VEVENT
BEGIN:VEVENT
DTSTART;TZID=America/New_York:20260208T103000
DTEND;TZID=America/New_York:20260208T170000
DTSTAMP:20260422T072812
CREATED:20260121T213824Z
LAST-MODIFIED:20260121T213824Z
UID:10001092-1770546600-1770570000@www.batiment7.org
SUMMARY:[Ateliers du B7] Accréditation 1 - Chambre noire - Débutant.es
DESCRIPTION:[Ateliers du B7] Accréditation 1 – Chambre noire – Débutant.es\nTu as déjà voulu essayer de développer tes photos argentiques ? Que dirais-tu de les imprimer dans une chambre noire traditionnelle ? C’est désormais possible !\n\nScott te propose un cours d’accréditation pour la chambre noire pour une petit groupe de 2 personnes.\nAprès ce cours\, tu te sentiras à l’aise pour utiliser la chambre noire de manière autonome et ainsi réserver l’espace pour créer tes projets en solo.\n \n\nDurée du cours :\n\n6 heures le dimanche de 10h30 à 17H\, avec une pause diner\n\n \n\nPetit groupe de 2 personnes maximum.\n\nA qui s’adresse ce cours ?\n\nPour toute personne intéressée par la photographie et souhaitant s’initier à la photographie argentique traditionnelle.\n\nÂge minimum : 18 ans\n\nConditions préalables : Aucun\n\nMatériel à apporter :\n\nUne bobine exposée de film noir et blanc 35 mm.\n\nSi vous n’avez pas d’appareil photo à pellicule\, un appareil photo Holga 35 mm à point et clic peut vous être prêté. Vous devez vous renseigner sur l’utilisation de l’appareil au moins une semaine avant le cours. Une caution de 25 $ doit être versée le jour de la prise en charge de l’appareil\, et la caution sera restituée le jour du cours.\n\nNotions que vous apprendrez dans le cours :\n\n 	Les bases de l’utilisation d’une chambre noire\n 	le mélange des produits chimiques pour le développement des films et des photos\,\n 	le chargement d’une boîte de film\,\n 	le processus de développement du film\,\n 	la création d’outils d’impression\,\n 	l’utilisation d’un agrandisseur\,\n 	fabrication d’une planche contact\, bande d’essai\,\n 	et l’impression de vos photos !\n\nLangues :\n\nCours d’anglais donné par un professeur unilingue (il apprend le français !)\n\n \n\nOù nous trouver ?\n\nBâtiment 7\, 2ème étage\n\n1900 Le Ber\, Montréal\n\n \n\nRemarques\n\n \n\n*L’atelier étant collaboratif\, le nettoyage collectif est inclus dans les heures de cours.\n\n*Les taxes sont incluses dans le prix\n\n* Veuillez lire nos conditions générales avant d’acheter : Il est de la responsabilité du participant d’assister au cours – il n’y aura pas de reprise !\n\n* En réservant un cours au Bâtiment 7\, vous vous engagez à respecter le code de conduite en vigueur dans les locaux (affiché à la réception)\, ainsi que la charte de l’atelier en question.\n\n* Si vous avez des questions concernant ce cours\, veuillez contacter l’atelier concerné à l’adresse suivante : chambrenoire@batiment7.org\n\n*******\n\nEver wanted to try and develop your silver photo ? How about printing your own pictures in a traditional darkroom? Now you can!  Scott offers you an accrediting course for the darkroom\n\nDuration:\n\n6 hours on Sunday from 10:30 a.m. to 5PM\, with a lunch break\n\n \n\nSmall group of 2 people maximum.\n\n \n\nWho is this course for?\n\nFor anyone with an interest in photography and would like to learn about traditional film photography.\n\nMinimum age : 18 yo\n\nPrerequisites : None\n\n \n\nEquipment you need to bring :\n\n 	One exposed roll of 35mm black and white film.\n\nIf you do not have a film camera\, a 35mm Holga point-and-click film camera can be loaned to you. You must inquire about using the camera at least one week before the class. A deposit of $25 must be made on the day of picking up the camera\, and the deposit will be returned on the day of the class.\n\n \n\nNotions you will learn in the course: (in the form of a « list with bullets ») : \n\n 	The basics of using a darkroom\n\n\n 	mixing chemicals for film and photo development\,\n\n\n 	loading a film canister\,\n 	film development process\,\n 	creating printing tools\,\n 	using an enlarger\,\n 	making a contact sheet\,\n 	test strip\,\n 	and printing your photos!\n\n \n\nAfter this course you will feel confident using the darkroom autonomously ! If the formateur says so\, you’ll be able to book the collective darkroom by yourself after this.\n\n \n\nLanguages :\n\nEnglish course given by a unilingual teacher (he’s learning French !)\n\n \n\nWhere to find us?\n\nBâtiment 7\, 2nd  floor\n\n1900 Le Ber\, Montréal\n\nNotes\n\n*As the workshop is collaborative\, collective cleaning is included in class time.\n\n*Taxes are included in the price\n\n* Please read our terms and conditions before purchasing: It is the participant’s responsibility to attend the class – there will be no retakes!\n\n* By booking a course at Bâtiment 7\, you agree to abide by the code of conduct in force on the premises (displayed at reception)\, as well as the charter of the workshop in question.\n\n* If you have any questions about this course\, please contact the workshop in question at the following address: chambrenoire@batiment7.org
URL:https://www.batiment7.org/event/ateliers-du-b7-accreditation-1-chambre-noire-debutant-es/2026-02-08/
LOCATION:Chambre Noire\, 1900\, rue Le Ber\, Montréal\, QC\, H3K 2A4\, Canada
CATEGORIES:Accréditation
ATTACH;FMTTYPE=image/jpeg:https://www.batiment7.org/wp-content/uploads/2025/10/Accreditation1-chambre-noire.jpg
ORGANIZER;CN="Ateliers du B7":MAILTO:info@batiment7.org
END:VEVENT
BEGIN:VEVENT
DTSTART;TZID=America/New_York:20260208T130000
DTEND;TZID=America/New_York:20260208T153000
DTSTAMP:20260422T072812
CREATED:20260121T211418Z
LAST-MODIFIED:20260121T212955Z
UID:10001078-1770555600-1770564600@www.batiment7.org
SUMMARY:[Ateliers du B7] - Accréditation - Impression numérique
DESCRIPTION:[Ateliers du B7] – Accréditation – Impression numériqueCe cours accréditant s’adresse à toutes les personnes désirant imprimer des images dans l’imprimerie numérique du Bâtiment 7.\nAtelier de 2h30 avec un professeur\, en petit groupe 4-5 élèves.\n\nVous apprendrez les bases de l’impression numérique\, découvrirez les papiers qui s’offrent à vous au B7 et et comment obtenir les couleurs de votre écran.\n\nApportez un fichier numérique (photo) et nous vous montrerons le processus pour l’imprimer de manière professionnelle. (Vous imprimerez une photo de format jusqu’à 16 pouces)\n\n \n\nPrérequis:\n\nÉcouter cette vidéo avant la période d’accréditation\n\nhttps://www.youtube.com/watch?v=LpytSLuUY_0&amp;t=633s&amp;ab_channel=MoabPaper\n\nMatériel recommandé : \n\n 	Porter des vêtements adaptés pour travailler dans un atelier.\n 	Avoir votre fichier accessible sur votre courriel ou sur une clé usb\n\nLangue : Donné habituellement en anglais par une prof bilingue\n\n—\n\n \n\nThis accreditation class is for everyone who would like to learn to print in the Digital Lab at  Bâtiment 7.\n\nThis workshop is 2 hours and 30 minutes long\, with a small group of 4-5 participants.\n\nIn this workshop you will learn the basics of digital printing\, discover different papers available at the B7\, and learn about how to achieve the same colors in your prints as you see on the computer screen.\n\nBring a digital file (photo) and we will teach you how to print it using a professional process. (You will print a photo\, maximum size 16 inches)\n\nPrerequisites:\n\nWatch this video before the accreditation class\n\n \n\nhttps://www.youtube.com/watch?v=LpytSLuUY_0&amp;t=633s&amp;ab_channel=MoabPaper\n\nWhat to bring:\n\n 	Wear clothing appropriate for working in a workshop\n 	Bring your file on a usb key or have it easily accessible to download from your email account\n\nLanguage : Usully given in english by a bilingual teacher
URL:https://www.batiment7.org/event/ateliers-du-b7-accreditation-impression-numerique/2026-02-08/
LOCATION:Atelier d’impression numérique
CATEGORIES:Accréditation
ATTACH;FMTTYPE=image/png:https://www.batiment7.org/wp-content/uploads/2025/10/large_training_image-1.png
ORGANIZER;CN="Atelier Impression num%C3%A9rique":MAILTO:impressionnumerique@batiment7.org
END:VEVENT
BEGIN:VEVENT
DTSTART;TZID=America/New_York:20260212T130000
DTEND;TZID=America/New_York:20260212T153000
DTSTAMP:20260422T072812
CREATED:20260121T211418Z
LAST-MODIFIED:20260121T212955Z
UID:10001079-1770901200-1770910200@www.batiment7.org
SUMMARY:[Ateliers du B7] - Accréditation - Impression numérique
DESCRIPTION:[Ateliers du B7] – Accréditation – Impression numériqueCe cours accréditant s’adresse à toutes les personnes désirant imprimer des images dans l’imprimerie numérique du Bâtiment 7.\nAtelier de 2h30 avec un professeur\, en petit groupe 4-5 élèves.\n\nVous apprendrez les bases de l’impression numérique\, découvrirez les papiers qui s’offrent à vous au B7 et et comment obtenir les couleurs de votre écran.\n\nApportez un fichier numérique (photo) et nous vous montrerons le processus pour l’imprimer de manière professionnelle. (Vous imprimerez une photo de format jusqu’à 16 pouces)\n\n \n\nPrérequis:\n\nÉcouter cette vidéo avant la période d’accréditation\n\nhttps://www.youtube.com/watch?v=LpytSLuUY_0&amp;t=633s&amp;ab_channel=MoabPaper\n\nMatériel recommandé : \n\n 	Porter des vêtements adaptés pour travailler dans un atelier.\n 	Avoir votre fichier accessible sur votre courriel ou sur une clé usb\n\nLangue : Donné habituellement en anglais par une prof bilingue\n\n—\n\n \n\nThis accreditation class is for everyone who would like to learn to print in the Digital Lab at  Bâtiment 7.\n\nThis workshop is 2 hours and 30 minutes long\, with a small group of 4-5 participants.\n\nIn this workshop you will learn the basics of digital printing\, discover different papers available at the B7\, and learn about how to achieve the same colors in your prints as you see on the computer screen.\n\nBring a digital file (photo) and we will teach you how to print it using a professional process. (You will print a photo\, maximum size 16 inches)\n\nPrerequisites:\n\nWatch this video before the accreditation class\n\n \n\nhttps://www.youtube.com/watch?v=LpytSLuUY_0&amp;t=633s&amp;ab_channel=MoabPaper\n\nWhat to bring:\n\n 	Wear clothing appropriate for working in a workshop\n 	Bring your file on a usb key or have it easily accessible to download from your email account\n\nLanguage : Usully given in english by a bilingual teacher
URL:https://www.batiment7.org/event/ateliers-du-b7-accreditation-impression-numerique/2026-02-12/
LOCATION:Atelier d’impression numérique
CATEGORIES:Accréditation
ATTACH;FMTTYPE=image/png:https://www.batiment7.org/wp-content/uploads/2025/10/large_training_image-1.png
ORGANIZER;CN="Atelier Impression num%C3%A9rique":MAILTO:impressionnumerique@batiment7.org
END:VEVENT
BEGIN:VEVENT
DTSTART;TZID=America/New_York:20260215T130000
DTEND;TZID=America/New_York:20260215T140000
DTSTAMP:20260422T072812
CREATED:20260121T212543Z
LAST-MODIFIED:20260121T213009Z
UID:10001084-1771160400-1771164000@www.batiment7.org
SUMMARY:[Ateliers du B7] - Accréditation Studio Photo
DESCRIPTION:[Ateliers du B7] – Accréditation Studio Photo\n\nTu veux louer le studio photo pour tes projets ?\n\nViens\, on te montre comment notre atelier fonctionne et quel matériel est à ta disposition et tu seras libre ensuite de l’utiliser !\n\n \n\nDurée de l’atelier : 1 heure\n\nPetit groupe de 5 personnes maximum.\n\nA qui s’adresse cette accréditation ?\n\nPour les personnes qui savent déjà comment prendre des photos et qui souhaite avoir un espace et un peu de matériel à disposition.\n\nNous vous montrerons comment fonctionne le studio photo et nous nous assurerons que vous pouvez l’utiliser vous-même après cette session.\n\nÂge minimum : 18 ans\n\nPrérequis :\n\n 	Aucuns\n\nMatériel à apporter :\n\n 	Non concerné\n\nNotions que vous apprendrez dans le cours :\n\nAprès cette session\, tu pourras réserver le studio photo collectif par toi-même de façon autonome.\n\nLangues :\n\nNotre membre est bilingue français et anglais\n\nOù nous trouver ?\n\nBâtiment 7\, 2ème étage\n\n1900 Le Ber\, Montréal\n\n \n\nRemarques\n\n*L’atelier étant collaboratif\, le nettoyage collectif est inclus dans les heures de cours.\n\n*Tout est inclus dans le prix (taxes\, matériel\, enseignement\, cuisson).\n\n* Veuillez lire nos termes et conditions avant d’acheter : Il est de la responsabilité du participant d’assister au cours – il n’y aura pas de reprise !\n\n* En réservant un cours au Bâtiment 7\, vous vous engagez à respecter le code de conduite en vigueur dans les locaux (affiché à la réception)\, ainsi que la charte de l’atelier en question.\n\n \n\n*********\n\nWould you like to rent the photo studio for your projects?\n\nCome along\, we’ll show you how our studio works and what equipment is available to you\, so you’ll be free to use it afterwards!\n\n \n\nDuration: 1 hour\n\nSmall group of 5 people maximum.\n\n \n\nWho is this course for?\n\nFor people who already know how to take photos and would like to have some space and equipment at their disposal.\n\nWe’ll show you how the photo studio works and make sure you can use it yourself after this session.\n\nMinimum age : 18\n\nPrerequisites : \n\n 	None\n\nEquipment you need to bring:\n\n 	Not applicable\n\nNotions you will learn in the course:\n\nAfter this session\, you’ll be able to book the group photo studio on your own independently.\n\nLanguages :\n\nOur member is bilingual in French and English\n\n \n\nWhere to find us?\n\nBâtiment 7\, 2nd  floor\n\n1900 Le Ber\, Montréal\n\n \n\nNotes\n\n*As the workshop is collaborative\, collective cleaning is included in class time.\n\n*Everything is included in the price (taxes\, materials\, teaching\, firing).\n\n* Please read our terms and conditions before purchasing: It is the participant’s responsibility to attend the class – there will be no retakes!\n\n* By booking a course at Bâtiment 7\, you agree to abide by the code of conduct in force on the premises (displayed at reception)\, as well as the charter of the workshop in question.
URL:https://www.batiment7.org/event/ateliers-du-b7-accreditation-studio-photo/2026-02-15/
LOCATION:Atelier Studio Photo\, 1900 Rue Le Ber
CATEGORIES:Accréditation
ATTACH;FMTTYPE=image/jpeg:https://www.batiment7.org/wp-content/uploads/2025/10/Studio-photo.jpg
ORGANIZER;CN="Ateliers du B7":MAILTO:info@batiment7.org
END:VEVENT
BEGIN:VEVENT
DTSTART;TZID=America/New_York:20260222T120000
DTEND;TZID=America/New_York:20260222T130000
DTSTAMP:20260422T072812
CREATED:20260121T222919Z
LAST-MODIFIED:20260121T223224Z
UID:10001109-1771761600-1771765200@www.batiment7.org
SUMMARY:[Ateliers du B7] Accréditation - Atelier vélo
DESCRIPTION:[Ateliers du B7] Accréditation – Atelier vélo\nAu sein de notre atelier\, nous avons des utilisateurs et utilisatrices de l’espace qui sont des particuliers.\n\nMais nous avons aussi un utilisateur professionnel : Cycle 7 ! Cette coopérative\, en plus de rendre ses services pour les cyclistes non patenteux\, permet que durant ses heures d’ouvertures\, les utilisateurs et utilisatrices particuliers puissent venir utiliser notre atelier collaboratif !\n\nToi aussi tu souhaites avoir accès à l’atelier dans une plus grande amplitude horaire ?\nRien de plus simple\, il te suffit de passer ton accréditation !\n\nDurée de l’accréditation : 1 heure\n\nPetit groupe de 5 personnes maximum.\n\nA qui s’adresse cette accréditation ?\n\nPour les personnes qui souhaitent avoir accès à l’atelier vélo dans les heures d’ouverture de notre utilisateur professionnel.\n\n \n\nAprès celle-ci\, tu auras accès\, dans la limite des places disponibles\, accès à l’atelier dans les horaires suivantes :\n\nMardi au Vendredi de 11h à 18h\nSamedi de 12h à 17h\n\nÂge minimum : 18 ans\n\nPrérequis :\n\n 	Aucuns\n\nMatériel à apporter :\n\n 	Non concerné\n\nNotions que vous apprendrez dans cette séance :\n\nL’atelier n’aura plus de secret pour toi et tu pourras être en totale autonomie dans l’espace.\n\nLangues :\n\nBilingue français et anglais\n\nOù nous trouver ?\n\nBâtiment 7\,\n\n1900 Le Ber\, Montréal\n\n \n\nRemarques\n\n*L’atelier étant collaboratif\, le nettoyage collectif est inclus dans les heures de cours.\n\n*Tout est inclus dans le prix (taxes\, matériel\, enseignement).\n\n* Veuillez lire nos termes et conditions avant d’acheter : Il est de la responsabilité du participant d’assister au cours – il n’y aura pas de reprise !\n\n* En réservant un cours au Bâtiment 7\, vous vous engagez à respecter le code de conduite en vigueur dans les locaux (affiché à la réception)\, ainsi que la charte de l’atelier en question.\n\n \n\n*********\n\nIn our workshop\, we have private users of the space.\n\nBut we also have a professional user: Cycle 7! This cooperative\, in addition to offering its services to the less handy users\, allows private users to come and use our collaborative workshop during its opening hours!\n\nWould you like to have access to the workshop over a wider range of hours?\n\nAll you have to do is get your accreditation!\n\nLength of accreditation: 1 hour\n\nSmall group of 5 people maximum.\n\nWho is this accreditation for?\n\nFor people who wish to have access to the bike workshop during the business hours of our professional user.\n\nAfter which\, you will have access\, subject to availability\, to the workshop at the following times:\n\nTuesday to Friday\, 11am to 6pm\n\nSaturday\, 12pm to 5pm\n\nMinimum age: 18 years\n\nPrerequisites :\n\nNone\n\nEquipment to bring :\n\nNot required\n\nNotions you’ll learn in this session:\n\nThe workshop will hold no secrets for you and you’ll be able to be totally autonomous in the space.\n\nLanguages :\n\nBilingual French and English\n\n \n\nWhere to find us\n\nBuilding 7\,\n\n1900 Le Ber\, Montreal\n\n \n\nNotes\n\n*As the workshop is collaborative\, collective cleaning is included in class time.\n\n*Everything is included in the price (taxes\, materials\, teaching).\n\n* Please read our terms and conditions before purchasing: It is the participant’s responsibility to attend the class – there will be no refunds or rescheduling!\n\n* By booking a course at Bâtiment 7\, you agree to abide by the code of conduct in force on the premises (displayed at reception)\, as well as the charter of the workshop in question.
URL:https://www.batiment7.org/event/ateliers-du-b7-accreditation-atelier-velo/2026-02-22/
LOCATION:Atelier Vélo
CATEGORIES:Accréditation
ATTACH;FMTTYPE=image/jpeg:https://www.batiment7.org/wp-content/uploads/2025/10/accreditation-velo.jpg
END:VEVENT
BEGIN:VEVENT
DTSTART;TZID=America/New_York:20260227T190000
DTEND;TZID=America/New_York:20260227T200000
DTSTAMP:20260422T072812
CREATED:20260121T212543Z
LAST-MODIFIED:20260121T213009Z
UID:10001085-1772218800-1772222400@www.batiment7.org
SUMMARY:[Ateliers du B7] - Accréditation Studio Photo
DESCRIPTION:[Ateliers du B7] – Accréditation Studio Photo\n\nTu veux louer le studio photo pour tes projets ?\n\nViens\, on te montre comment notre atelier fonctionne et quel matériel est à ta disposition et tu seras libre ensuite de l’utiliser !\n\n \n\nDurée de l’atelier : 1 heure\n\nPetit groupe de 5 personnes maximum.\n\nA qui s’adresse cette accréditation ?\n\nPour les personnes qui savent déjà comment prendre des photos et qui souhaite avoir un espace et un peu de matériel à disposition.\n\nNous vous montrerons comment fonctionne le studio photo et nous nous assurerons que vous pouvez l’utiliser vous-même après cette session.\n\nÂge minimum : 18 ans\n\nPrérequis :\n\n 	Aucuns\n\nMatériel à apporter :\n\n 	Non concerné\n\nNotions que vous apprendrez dans le cours :\n\nAprès cette session\, tu pourras réserver le studio photo collectif par toi-même de façon autonome.\n\nLangues :\n\nNotre membre est bilingue français et anglais\n\nOù nous trouver ?\n\nBâtiment 7\, 2ème étage\n\n1900 Le Ber\, Montréal\n\n \n\nRemarques\n\n*L’atelier étant collaboratif\, le nettoyage collectif est inclus dans les heures de cours.\n\n*Tout est inclus dans le prix (taxes\, matériel\, enseignement\, cuisson).\n\n* Veuillez lire nos termes et conditions avant d’acheter : Il est de la responsabilité du participant d’assister au cours – il n’y aura pas de reprise !\n\n* En réservant un cours au Bâtiment 7\, vous vous engagez à respecter le code de conduite en vigueur dans les locaux (affiché à la réception)\, ainsi que la charte de l’atelier en question.\n\n \n\n*********\n\nWould you like to rent the photo studio for your projects?\n\nCome along\, we’ll show you how our studio works and what equipment is available to you\, so you’ll be free to use it afterwards!\n\n \n\nDuration: 1 hour\n\nSmall group of 5 people maximum.\n\n \n\nWho is this course for?\n\nFor people who already know how to take photos and would like to have some space and equipment at their disposal.\n\nWe’ll show you how the photo studio works and make sure you can use it yourself after this session.\n\nMinimum age : 18\n\nPrerequisites : \n\n 	None\n\nEquipment you need to bring:\n\n 	Not applicable\n\nNotions you will learn in the course:\n\nAfter this session\, you’ll be able to book the group photo studio on your own independently.\n\nLanguages :\n\nOur member is bilingual in French and English\n\n \n\nWhere to find us?\n\nBâtiment 7\, 2nd  floor\n\n1900 Le Ber\, Montréal\n\n \n\nNotes\n\n*As the workshop is collaborative\, collective cleaning is included in class time.\n\n*Everything is included in the price (taxes\, materials\, teaching\, firing).\n\n* Please read our terms and conditions before purchasing: It is the participant’s responsibility to attend the class – there will be no retakes!\n\n* By booking a course at Bâtiment 7\, you agree to abide by the code of conduct in force on the premises (displayed at reception)\, as well as the charter of the workshop in question.
URL:https://www.batiment7.org/event/ateliers-du-b7-accreditation-studio-photo/2026-02-27/
LOCATION:Atelier Studio Photo\, 1900 Rue Le Ber
CATEGORIES:Accréditation
ATTACH;FMTTYPE=image/jpeg:https://www.batiment7.org/wp-content/uploads/2025/10/Studio-photo.jpg
ORGANIZER;CN="Ateliers du B7":MAILTO:info@batiment7.org
END:VEVENT
END:VCALENDAR