BEGIN:VCALENDAR
VERSION:2.0
PRODID:-//Bâtiment 7 - ECPv6.15.20//NONSGML v1.0//EN
CALSCALE:GREGORIAN
METHOD:PUBLISH
X-ORIGINAL-URL:https://www.batiment7.org
X-WR-CALDESC:Événements pour Bâtiment 7
REFRESH-INTERVAL;VALUE=DURATION:PT1H
X-Robots-Tag:noindex
X-PUBLISHED-TTL:PT1H
BEGIN:VTIMEZONE
TZID:America/New_York
BEGIN:DAYLIGHT
TZOFFSETFROM:-0500
TZOFFSETTO:-0400
TZNAME:EDT
DTSTART:20220313T070000
END:DAYLIGHT
BEGIN:STANDARD
TZOFFSETFROM:-0400
TZOFFSETTO:-0500
TZNAME:EST
DTSTART:20221106T060000
END:STANDARD
BEGIN:DAYLIGHT
TZOFFSETFROM:-0500
TZOFFSETTO:-0400
TZNAME:EDT
DTSTART:20230312T070000
END:DAYLIGHT
BEGIN:STANDARD
TZOFFSETFROM:-0400
TZOFFSETTO:-0500
TZNAME:EST
DTSTART:20231105T060000
END:STANDARD
BEGIN:DAYLIGHT
TZOFFSETFROM:-0500
TZOFFSETTO:-0400
TZNAME:EDT
DTSTART:20240310T070000
END:DAYLIGHT
BEGIN:STANDARD
TZOFFSETFROM:-0400
TZOFFSETTO:-0500
TZNAME:EST
DTSTART:20241103T060000
END:STANDARD
END:VTIMEZONE
BEGIN:VEVENT
DTSTART;TZID=America/New_York:20230325T150000
DTEND;TZID=America/New_York:20230325T190000
DTSTAMP:20260424T184219
CREATED:20230117T152527Z
LAST-MODIFIED:20230309T183242Z
UID:10000139-1679756400-1679770800@www.batiment7.org
SUMMARY:Bouffe Populaire - SPÉCIAL CABANE À SUCRE !
DESCRIPTION:Repas communautaire gratuit Spécial cabane à sucre végé!\n\nOuvert à toutes et tous !\n\n25 mars 2023\, 15h à 19h\n\n5$ par repas\, ou gratuit avec coupon\nLes coupons sont disponibles chez les organismes indiqués sur l’affiche.\n\n \n\nOn fait ça dehors : habillez-vous chaudement !
URL:https://www.batiment7.org/event/bouffe-populaire-4/
LOCATION:Bâtiment 7\, 1900 rue Le Ber\, Montréal\, Québec\, H3K2A4\, Canada
CATEGORIES:Nourriture
ATTACH;FMTTYPE=image/jpeg:https://www.batiment7.org/wp-content/uploads/2023/01/cabane-a-sucre2023.jpg
ORGANIZER;CN="B%C3%A2timent 7":MAILTO:info@batiment7.org
END:VEVENT
END:VCALENDAR