BEGIN:VCALENDAR
VERSION:2.0
PRODID:-//Bâtiment 7 - ECPv6.15.20//NONSGML v1.0//EN
CALSCALE:GREGORIAN
METHOD:PUBLISH
X-ORIGINAL-URL:https://www.batiment7.org
X-WR-CALDESC:Événements pour Bâtiment 7
REFRESH-INTERVAL;VALUE=DURATION:PT1H
X-Robots-Tag:noindex
X-PUBLISHED-TTL:PT1H
BEGIN:VTIMEZONE
TZID:America/New_York
BEGIN:DAYLIGHT
TZOFFSETFROM:-0500
TZOFFSETTO:-0400
TZNAME:EDT
DTSTART:20220313T070000
END:DAYLIGHT
BEGIN:STANDARD
TZOFFSETFROM:-0400
TZOFFSETTO:-0500
TZNAME:EST
DTSTART:20221106T060000
END:STANDARD
BEGIN:DAYLIGHT
TZOFFSETFROM:-0500
TZOFFSETTO:-0400
TZNAME:EDT
DTSTART:20230312T070000
END:DAYLIGHT
BEGIN:STANDARD
TZOFFSETFROM:-0400
TZOFFSETTO:-0500
TZNAME:EST
DTSTART:20231105T060000
END:STANDARD
BEGIN:DAYLIGHT
TZOFFSETFROM:-0500
TZOFFSETTO:-0400
TZNAME:EDT
DTSTART:20240310T070000
END:DAYLIGHT
BEGIN:STANDARD
TZOFFSETFROM:-0400
TZOFFSETTO:-0500
TZNAME:EST
DTSTART:20241103T060000
END:STANDARD
END:VTIMEZONE
BEGIN:VEVENT
DTSTART;TZID=America/New_York:20230429T170000
DTEND;TZID=America/New_York:20230429T190000
DTSTAMP:20260424T171809
CREATED:20230427T175239Z
LAST-MODIFIED:20230427T175345Z
UID:10000239-1682787600-1682794800@www.batiment7.org
SUMMARY:BOUFFE POPULAIRE
DESCRIPTION:Repas communautaire gratuit\n\nOuvert à toutes et tous !\n\nApportez vos contenants\, ustensiles et un.e ami.e 🙂\n\n29 avril 2023\, 17h à 19h\n\n—\n\nFree community meal\n\nOpen to all!\n\nBring your containers\, utensils and a friend 🙂\n\nApril 29\, 2023\, 5:00 pm to 7:00 pm
URL:https://www.batiment7.org/event/bouffe-populaire-5/
LOCATION:Bâtiment 7\, 1900 rue Le Ber\, Montréal\, Québec\, H3K2A4\, Canada
CATEGORIES:Nourriture
ATTACH;FMTTYPE=image/jpeg:https://www.batiment7.org/wp-content/uploads/2023/04/343319234_769373661452406_2162343649204110913_n.jpg
ORGANIZER;CN="B%C3%A2timent 7":MAILTO:info@batiment7.org
END:VEVENT
END:VCALENDAR