BEGIN:VCALENDAR
VERSION:2.0
PRODID:-//Bâtiment 7 - ECPv6.15.20//NONSGML v1.0//EN
CALSCALE:GREGORIAN
METHOD:PUBLISH
X-ORIGINAL-URL:https://www.batiment7.org
X-WR-CALDESC:Événements pour Bâtiment 7
REFRESH-INTERVAL;VALUE=DURATION:PT1H
X-Robots-Tag:noindex
X-PUBLISHED-TTL:PT1H
BEGIN:VTIMEZONE
TZID:America/New_York
BEGIN:DAYLIGHT
TZOFFSETFROM:-0500
TZOFFSETTO:-0400
TZNAME:EDT
DTSTART:20220313T070000
END:DAYLIGHT
BEGIN:STANDARD
TZOFFSETFROM:-0400
TZOFFSETTO:-0500
TZNAME:EST
DTSTART:20221106T060000
END:STANDARD
BEGIN:DAYLIGHT
TZOFFSETFROM:-0500
TZOFFSETTO:-0400
TZNAME:EDT
DTSTART:20230312T070000
END:DAYLIGHT
BEGIN:STANDARD
TZOFFSETFROM:-0400
TZOFFSETTO:-0500
TZNAME:EST
DTSTART:20231105T060000
END:STANDARD
BEGIN:DAYLIGHT
TZOFFSETFROM:-0500
TZOFFSETTO:-0400
TZNAME:EDT
DTSTART:20240310T070000
END:DAYLIGHT
BEGIN:STANDARD
TZOFFSETFROM:-0400
TZOFFSETTO:-0500
TZNAME:EST
DTSTART:20241103T060000
END:STANDARD
END:VTIMEZONE
BEGIN:VEVENT
DTSTART;TZID=America/New_York:20231005T160000
DTEND;TZID=America/New_York:20231005T190000
DTSTAMP:20260424T081512
CREATED:20230914T200739Z
LAST-MODIFIED:20230916T213515Z
UID:10000314-1696521600-1696532400@www.batiment7.org
SUMMARY:Inauguration de la Ruelle Bleue-Verte !
DESCRIPTION:C’est avec beaucoup de fierté et d’excitation qu’on vous invite à l’inauguration de la Ruelle Bleue-Verte !\n\n☀️🌳METTEZ ÇA À VOS AGENDAS 🌳☀️\n\nJeudi 05 octobre 2023\n16h à 19h\n(remis au lendemain en cas de pluie)\n\nPlus de détails suivront – Suivez notre page Facebook ou celle de @projetruellesbleuesvertes !\n\n……………………………………………………………………………………………\n\nTHE BLUE-GREEN ALLEY INAUGURATION !\n\n\nIt’s with great pride and excitement that we invite you to the inauguration of the Blue-Green Alley!\n\n☀️🌳MARK YOUR CALENDARS🌳☀️\n\nThursday\, October 05\, 2023\n4pm to 7pm\n(postponed to the following day in case of rain)\n\nMore details to follow – follow Bâtiment 7’s Facebook page or the Blue-Green Alley Alliance’s!
URL:https://www.batiment7.org/event/inauguration-de-la-ruelle-bleue-verte/
LOCATION:Ruelle Bleue-Verte\, 1900 rue Le Ber\, Montréal\, Qc\, H3K2A4\, Canada
CATEGORIES:Musique,Nourriture,Séance d'informations
ATTACH;FMTTYPE=image/jpeg:https://www.batiment7.org/wp-content/uploads/2023/09/376258595_698684202295109_3504629714192783146_n.jpg
ORGANIZER;CN="B%C3%A2timent 7":MAILTO:info@batiment7.org
END:VEVENT
BEGIN:VEVENT
DTSTART;TZID=America/New_York:20231028T170000
DTEND;TZID=America/New_York:20231028T190000
DTSTAMP:20260424T081512
CREATED:20230916T212624Z
LAST-MODIFIED:20230916T212624Z
UID:10000325-1698512400-1698519600@www.batiment7.org
SUMMARY:Bouffe populaire
DESCRIPTION:La Bouffe Populaire\, c’est \n\n– Un repas communautaire\n– Gratuit\n– Végétarien\n– Pour les habitant.es de la Pointe et au-delà !\n\nAmenez votre bol\, ustensile et un.e ami.e!\n\nProchaines dates : \n\n30 septembre\n28 octobre\n25 novembre\n17h à 19h\n\n—-\n\nLa Bouffe Populaire is \n\n– A community meal\n– Free of charge\n– Vegetarian\n– For residents of the Pointe and beyond!\n\nBring your bowl\, utensils and a friend!\n\nNext dates : \n\nSeptember 30\nOctober 28\nNovember 25\n5pm to 7pm
URL:https://www.batiment7.org/event/bouffe-populaire-8/
LOCATION:Bâtiment 7\, 1900 rue Le Ber\, Montréal\, Québec\, H3K2A4\, Canada
CATEGORIES:Nourriture
ATTACH;FMTTYPE=image/jpeg:https://www.batiment7.org/wp-content/uploads/2023/09/BouffePopA23_Affiche-1.jpg
ORGANIZER;CN="B%C3%A2timent 7":MAILTO:info@batiment7.org
END:VEVENT
END:VCALENDAR