BEGIN:VCALENDAR
VERSION:2.0
PRODID:-//Bâtiment 7 - ECPv6.15.20//NONSGML v1.0//EN
CALSCALE:GREGORIAN
METHOD:PUBLISH
X-ORIGINAL-URL:https://www.batiment7.org
X-WR-CALDESC:Événements pour Bâtiment 7
REFRESH-INTERVAL;VALUE=DURATION:PT1H
X-Robots-Tag:noindex
X-PUBLISHED-TTL:PT1H
BEGIN:VTIMEZONE
TZID:America/New_York
BEGIN:DAYLIGHT
TZOFFSETFROM:-0500
TZOFFSETTO:-0400
TZNAME:EDT
DTSTART:20230312T070000
END:DAYLIGHT
BEGIN:STANDARD
TZOFFSETFROM:-0400
TZOFFSETTO:-0500
TZNAME:EST
DTSTART:20231105T060000
END:STANDARD
BEGIN:DAYLIGHT
TZOFFSETFROM:-0500
TZOFFSETTO:-0400
TZNAME:EDT
DTSTART:20240310T070000
END:DAYLIGHT
BEGIN:STANDARD
TZOFFSETFROM:-0400
TZOFFSETTO:-0500
TZNAME:EST
DTSTART:20241103T060000
END:STANDARD
BEGIN:DAYLIGHT
TZOFFSETFROM:-0500
TZOFFSETTO:-0400
TZNAME:EDT
DTSTART:20250309T070000
END:DAYLIGHT
BEGIN:STANDARD
TZOFFSETFROM:-0400
TZOFFSETTO:-0500
TZNAME:EST
DTSTART:20251102T060000
END:STANDARD
END:VTIMEZONE
BEGIN:VEVENT
DTSTART;TZID=America/New_York:20241026T170000
DTEND;TZID=America/New_York:20241026T190000
DTSTAMP:20260423T164322
CREATED:20241010T191011Z
LAST-MODIFIED:20241010T191015Z
UID:10000411-1729962000-1729969200@www.batiment7.org
SUMMARY:Bouffe Pop mensuelle
DESCRIPTION:Venez manger un repas végé gratuitement avec votre famille choisie\, vos voisin.es ou vos ami.es !\n\nNous serons installé-es à l’accueil du B7! Amenez vos contenants pour apporter ou mangez sur place!\n—\nCome and eat a delicious vegetarian meal for free with your friends or chosen family !\n\nWe are going to be serving at the reception of B7! Bring your containers or eat with us!
URL:https://www.batiment7.org/event/bouffe-pop-mensuelle/
LOCATION:Bâtiment 7\, 1900 rue Le Ber\, Montréal\, Québec\, H3K2A4\, Canada
CATEGORIES:Nourriture
ATTACH;FMTTYPE=image/png:https://www.batiment7.org/wp-content/uploads/2024/10/Untitled-design.png
ORGANIZER;CN="B%C3%A2timent 7":MAILTO:info@batiment7.org
END:VEVENT
END:VCALENDAR