BEGIN:VCALENDAR
VERSION:2.0
PRODID:-//Bâtiment 7 - ECPv6.15.20//NONSGML v1.0//EN
CALSCALE:GREGORIAN
METHOD:PUBLISH
X-WR-CALNAME:Bâtiment 7
X-ORIGINAL-URL:https://www.batiment7.org
X-WR-CALDESC:Événements pour Bâtiment 7
REFRESH-INTERVAL;VALUE=DURATION:PT1H
X-Robots-Tag:noindex
X-PUBLISHED-TTL:PT1H
BEGIN:VTIMEZONE
TZID:America/New_York
BEGIN:DAYLIGHT
TZOFFSETFROM:-0500
TZOFFSETTO:-0400
TZNAME:EDT
DTSTART:20250309T070000
END:DAYLIGHT
BEGIN:STANDARD
TZOFFSETFROM:-0400
TZOFFSETTO:-0500
TZNAME:EST
DTSTART:20251102T060000
END:STANDARD
BEGIN:DAYLIGHT
TZOFFSETFROM:-0500
TZOFFSETTO:-0400
TZNAME:EDT
DTSTART:20260308T070000
END:DAYLIGHT
BEGIN:STANDARD
TZOFFSETFROM:-0400
TZOFFSETTO:-0500
TZNAME:EST
DTSTART:20261101T060000
END:STANDARD
BEGIN:DAYLIGHT
TZOFFSETFROM:-0500
TZOFFSETTO:-0400
TZNAME:EDT
DTSTART:20270314T070000
END:DAYLIGHT
BEGIN:STANDARD
TZOFFSETFROM:-0400
TZOFFSETTO:-0500
TZNAME:EST
DTSTART:20271107T060000
END:STANDARD
END:VTIMEZONE
BEGIN:VEVENT
DTSTART;TZID=America/New_York:20260204T180000
DTEND;TZID=America/New_York:20260204T184500
DTSTAMP:20260423T120714
CREATED:20260120T221838Z
LAST-MODIFIED:20260120T221838Z
UID:10001034-1770228000-1770230700@www.batiment7.org
SUMMARY:Zumba pour le plaisir de bouger
DESCRIPTION:Zumba pour le plaisir de bouger\n Zumba au Bâtiment 7  \nEnvie de danser\, de vous défouler et de vous amuser ? \n\nUn cours de danse festif\, énergique et ouvert à tous les niveaux !  avec Zumba Lyla\n\n Le mercredi de 18h à 18h45\nDans le Grand Atelier au 2e étage\n\n Inscription à la carte\n\n Abonnement mensuel\n\nAmenez votre énergie\, vos ami·e·s\, votre bonne humeur\, votre eau\, vos souliers confortables et laissez-vous emporter par la musique !\n\nViens bouger avec nous ! \n\n Bâtiment 7\, 1900 rue Leber\n\nVous êtes les bienvenu·es tous les mercredis dans le Grand Atelier au 2e étage.\n\n*******************************************************\nZumba for the joy of moving \n Zumba at Bâtiment 7 Feel like dancing\, letting loose\, and having fun? \nA festive\, high-energy dance class open to all levels!  With Zumba Lyla. \nWednesdays from 6:00 to 6:45 pmIn the Grand Atelier\, 2nd floor \n Drop-in registration \n Monthly membership \nBring your energy\, your friends\, your good vibes\, your water bottle\, and comfortable shoes—and let the music carry you away! \nCome move with us!  \n Bâtiment 7\, 1900 rue Leber \nYou’re welcome every Wednesday in the Grand Atelier on the 2nd floor.
URL:https://www.batiment7.org/event/zumba-pour-le-plaisir-de-bouger-2/2026-02-04/
LOCATION:Bâtiment 7\, 1900 rue Le Ber\, Montréal\, Québec\, H3K2A4\, Canada
CATEGORIES:Cours,Danse,Zumba
ATTACH;FMTTYPE=image/jpeg:https://www.batiment7.org/wp-content/uploads/2025/11/6db4c84c-031d-4a15-a7eb-a83dc0faca34.jpeg
END:VEVENT
BEGIN:VEVENT
DTSTART;TZID=America/New_York:20260211T180000
DTEND;TZID=America/New_York:20260211T184500
DTSTAMP:20260423T120714
CREATED:20260120T221838Z
LAST-MODIFIED:20260120T221838Z
UID:10001035-1770832800-1770835500@www.batiment7.org
SUMMARY:Zumba pour le plaisir de bouger
DESCRIPTION:Zumba pour le plaisir de bouger\n Zumba au Bâtiment 7  \nEnvie de danser\, de vous défouler et de vous amuser ? \n\nUn cours de danse festif\, énergique et ouvert à tous les niveaux !  avec Zumba Lyla\n\n Le mercredi de 18h à 18h45\nDans le Grand Atelier au 2e étage\n\n Inscription à la carte\n\n Abonnement mensuel\n\nAmenez votre énergie\, vos ami·e·s\, votre bonne humeur\, votre eau\, vos souliers confortables et laissez-vous emporter par la musique !\n\nViens bouger avec nous ! \n\n Bâtiment 7\, 1900 rue Leber\n\nVous êtes les bienvenu·es tous les mercredis dans le Grand Atelier au 2e étage.\n\n*******************************************************\nZumba for the joy of moving \n Zumba at Bâtiment 7 Feel like dancing\, letting loose\, and having fun? \nA festive\, high-energy dance class open to all levels!  With Zumba Lyla. \nWednesdays from 6:00 to 6:45 pmIn the Grand Atelier\, 2nd floor \n Drop-in registration \n Monthly membership \nBring your energy\, your friends\, your good vibes\, your water bottle\, and comfortable shoes—and let the music carry you away! \nCome move with us!  \n Bâtiment 7\, 1900 rue Leber \nYou’re welcome every Wednesday in the Grand Atelier on the 2nd floor.
URL:https://www.batiment7.org/event/zumba-pour-le-plaisir-de-bouger-2/2026-02-11/
LOCATION:Bâtiment 7\, 1900 rue Le Ber\, Montréal\, Québec\, H3K2A4\, Canada
CATEGORIES:Cours,Danse,Zumba
ATTACH;FMTTYPE=image/jpeg:https://www.batiment7.org/wp-content/uploads/2025/11/6db4c84c-031d-4a15-a7eb-a83dc0faca34.jpeg
END:VEVENT
BEGIN:VEVENT
DTSTART;TZID=America/New_York:20260211T180000
DTEND;TZID=America/New_York:20260211T210000
DTSTAMP:20260423T120714
CREATED:20260121T165446Z
LAST-MODIFIED:20260121T165446Z
UID:10001050-1770832800-1770843600@www.batiment7.org
SUMMARY:Massage et Soirée DJ | NEO RENAUD x GULI
DESCRIPTION:Libérez votre esprit et dansez au rythme de la musique \n\n\nLes sans-taverne vous invite le 11 février à un rituel sensoriel unique autour du son\, avec un massage guidé sur chaise par Neo Renaud et un DJ set downtempo en direct par GULI.\n\n\n Neo Renaud\, massothérapeute expert\, vous aidera à relâcher les tensions et apaiser l’esprit\, tandis que des mélodies tech-house et swing hypnotiques vous enveloppent. Fermez les yeux\, bougez\, dansez ou discutez et vivez l’instant.\n\n\n Durée : 3 heures (18h – 21h)Lieu : les sans-taverne Massage à prix libre (ou suggestion 1$/minute)
URL:https://www.batiment7.org/event/massage-et-soiree-dj-neo-renaud-x-guli/
LOCATION:les sans-taverne\, 1900 rue Le Ber\, Montréal\, Qc\, Canada
CATEGORIES:Massage,Musique
ATTACH;FMTTYPE=image/png:https://www.batiment7.org/wp-content/uploads/2026/01/Massage_Downtempo.png
END:VEVENT
BEGIN:VEVENT
DTSTART;TZID=America/New_York:20260218T180000
DTEND;TZID=America/New_York:20260218T184500
DTSTAMP:20260423T120714
CREATED:20260120T221838Z
LAST-MODIFIED:20260120T221838Z
UID:10001036-1771437600-1771440300@www.batiment7.org
SUMMARY:Zumba pour le plaisir de bouger
DESCRIPTION:Zumba pour le plaisir de bouger\n Zumba au Bâtiment 7  \nEnvie de danser\, de vous défouler et de vous amuser ? \n\nUn cours de danse festif\, énergique et ouvert à tous les niveaux !  avec Zumba Lyla\n\n Le mercredi de 18h à 18h45\nDans le Grand Atelier au 2e étage\n\n Inscription à la carte\n\n Abonnement mensuel\n\nAmenez votre énergie\, vos ami·e·s\, votre bonne humeur\, votre eau\, vos souliers confortables et laissez-vous emporter par la musique !\n\nViens bouger avec nous ! \n\n Bâtiment 7\, 1900 rue Leber\n\nVous êtes les bienvenu·es tous les mercredis dans le Grand Atelier au 2e étage.\n\n*******************************************************\nZumba for the joy of moving \n Zumba at Bâtiment 7 Feel like dancing\, letting loose\, and having fun? \nA festive\, high-energy dance class open to all levels!  With Zumba Lyla. \nWednesdays from 6:00 to 6:45 pmIn the Grand Atelier\, 2nd floor \n Drop-in registration \n Monthly membership \nBring your energy\, your friends\, your good vibes\, your water bottle\, and comfortable shoes—and let the music carry you away! \nCome move with us!  \n Bâtiment 7\, 1900 rue Leber \nYou’re welcome every Wednesday in the Grand Atelier on the 2nd floor.
URL:https://www.batiment7.org/event/zumba-pour-le-plaisir-de-bouger-2/2026-02-18/
LOCATION:Bâtiment 7\, 1900 rue Le Ber\, Montréal\, Québec\, H3K2A4\, Canada
CATEGORIES:Cours,Danse,Zumba
ATTACH;FMTTYPE=image/jpeg:https://www.batiment7.org/wp-content/uploads/2025/11/6db4c84c-031d-4a15-a7eb-a83dc0faca34.jpeg
END:VEVENT
BEGIN:VEVENT
DTSTART;TZID=America/New_York:20260225T180000
DTEND;TZID=America/New_York:20260225T184500
DTSTAMP:20260423T120714
CREATED:20260120T221838Z
LAST-MODIFIED:20260120T221838Z
UID:10001037-1772042400-1772045100@www.batiment7.org
SUMMARY:Zumba pour le plaisir de bouger
DESCRIPTION:Zumba pour le plaisir de bouger\n Zumba au Bâtiment 7  \nEnvie de danser\, de vous défouler et de vous amuser ? \n\nUn cours de danse festif\, énergique et ouvert à tous les niveaux !  avec Zumba Lyla\n\n Le mercredi de 18h à 18h45\nDans le Grand Atelier au 2e étage\n\n Inscription à la carte\n\n Abonnement mensuel\n\nAmenez votre énergie\, vos ami·e·s\, votre bonne humeur\, votre eau\, vos souliers confortables et laissez-vous emporter par la musique !\n\nViens bouger avec nous ! \n\n Bâtiment 7\, 1900 rue Leber\n\nVous êtes les bienvenu·es tous les mercredis dans le Grand Atelier au 2e étage.\n\n*******************************************************\nZumba for the joy of moving \n Zumba at Bâtiment 7 Feel like dancing\, letting loose\, and having fun? \nA festive\, high-energy dance class open to all levels!  With Zumba Lyla. \nWednesdays from 6:00 to 6:45 pmIn the Grand Atelier\, 2nd floor \n Drop-in registration \n Monthly membership \nBring your energy\, your friends\, your good vibes\, your water bottle\, and comfortable shoes—and let the music carry you away! \nCome move with us!  \n Bâtiment 7\, 1900 rue Leber \nYou’re welcome every Wednesday in the Grand Atelier on the 2nd floor.
URL:https://www.batiment7.org/event/zumba-pour-le-plaisir-de-bouger-2/2026-02-25/
LOCATION:Bâtiment 7\, 1900 rue Le Ber\, Montréal\, Québec\, H3K2A4\, Canada
CATEGORIES:Cours,Danse,Zumba
ATTACH;FMTTYPE=image/jpeg:https://www.batiment7.org/wp-content/uploads/2025/11/6db4c84c-031d-4a15-a7eb-a83dc0faca34.jpeg
END:VEVENT
BEGIN:VEVENT
DTSTART;TZID=America/New_York:20260228T200000
DTEND;TZID=America/New_York:20260228T220000
DTSTAMP:20260423T120714
CREATED:20260203T160635Z
LAST-MODIFIED:20260203T160635Z
UID:10001114-1772308800-1772316000@www.batiment7.org
SUMMARY:ROSEMĒR show rock psychédélique
DESCRIPTION:Rosemēr débarque aux sans-taverne ! Préparez-vous une énergie qui déchire le 28 février \n\n\nUn regroupement de 5 musiciens provenant d’horizons multiples. Qu’ils soient originaires de Nouvelle-Zélande ou du pourtour du Saint Laurent\, l’amour des décibels\, comme les flots qui afflux les fleuves vers les mers et océans\, ont pousser les membres du collectif à se réunir ici\, à Montréal.\nLeur musique vise à défier les barrières rigides imposer par les genres musicaux tout en célébrant la multiplicité et la diversification. De ce fait\, l’une après les autres\, leurs pièces proposent des airs de rock psychédélique\, de blues\, de folk en passant par le bossa nova et le jazz.\n–\n10$ à l’entrée\nlieu: les sans-taverne
URL:https://www.batiment7.org/event/rosemer-show-rock-psychedelique/
LOCATION:les sans-taverne\, 1900 rue Le Ber\, Montréal\, Qc\, Canada
CATEGORIES:Bière,Musique,Performance
ATTACH;FMTTYPE=image/jpeg:https://www.batiment7.org/wp-content/uploads/2026/02/5e9eb85cb0132e4eb1fade51f84c6adb.jpeg
END:VEVENT
END:VCALENDAR