BEGIN:VCALENDAR
VERSION:2.0
PRODID:-//Bâtiment 7 - ECPv6.15.20//NONSGML v1.0//EN
CALSCALE:GREGORIAN
METHOD:PUBLISH
X-WR-CALNAME:Bâtiment 7
X-ORIGINAL-URL:https://www.batiment7.org
X-WR-CALDESC:Événements pour Bâtiment 7
REFRESH-INTERVAL;VALUE=DURATION:PT1H
X-Robots-Tag:noindex
X-PUBLISHED-TTL:PT1H
BEGIN:VTIMEZONE
TZID:America/New_York
BEGIN:DAYLIGHT
TZOFFSETFROM:-0500
TZOFFSETTO:-0400
TZNAME:EDT
DTSTART:20230312T070000
END:DAYLIGHT
BEGIN:STANDARD
TZOFFSETFROM:-0400
TZOFFSETTO:-0500
TZNAME:EST
DTSTART:20231105T060000
END:STANDARD
BEGIN:DAYLIGHT
TZOFFSETFROM:-0500
TZOFFSETTO:-0400
TZNAME:EDT
DTSTART:20240310T070000
END:DAYLIGHT
BEGIN:STANDARD
TZOFFSETFROM:-0400
TZOFFSETTO:-0500
TZNAME:EST
DTSTART:20241103T060000
END:STANDARD
BEGIN:DAYLIGHT
TZOFFSETFROM:-0500
TZOFFSETTO:-0400
TZNAME:EDT
DTSTART:20250309T070000
END:DAYLIGHT
BEGIN:STANDARD
TZOFFSETFROM:-0400
TZOFFSETTO:-0500
TZNAME:EST
DTSTART:20251102T060000
END:STANDARD
BEGIN:DAYLIGHT
TZOFFSETFROM:-0500
TZOFFSETTO:-0400
TZNAME:EDT
DTSTART:20260308T070000
END:DAYLIGHT
BEGIN:STANDARD
TZOFFSETFROM:-0400
TZOFFSETTO:-0500
TZNAME:EST
DTSTART:20261101T060000
END:STANDARD
END:VTIMEZONE
BEGIN:VEVENT
DTSTART;TZID=America/New_York:20250910T170000
DTEND;TZID=America/New_York:20250910T190000
DTSTAMP:20260424T171454
CREATED:20250818T225523Z
LAST-MODIFIED:20250818T225523Z
UID:10000557-1757523600-1757530800@www.batiment7.org
SUMMARY:Séance d'info : Recrutement des membres du CA (PRESS START) / Press Start info session for potential Board members
DESCRIPTION:(English will follow)\n\nEs-tu passionné·e par la communauté\, les projets jeunesse et l’impact social? As-tu entre 25 et 35 ans et envie de t’impliquer concrètement dans l’avenir d’une organisation audacieuse et créative?\n\nPress Start\, une coopérative à but non lucratif dirigée par et pour les jeunes\, cherche de nouveaux membres pour son CA — et nous voulons que tu en fasses partie.\n\n📅 Séance d’information Mercredi 10 septembre 🕔 17h à 19h 📍 Chez Press Start (1900\, rue Le Ber\, Tiohtià:ke / Montréal)\n\nViens rencontrer l’équipe\, découvrir à quoi ressemble l’implication au CA\, et poser tes questions.\n\n🔍 Qui nous cherchons Nous cherchons des personnes motivées — surtout des jeunes de 25 à 35 ans — capables de s’engager entre 2 et 10 heures par mois selon le rôle. Pas besoin d’être expert·e : il suffit d’être engagé·e\, collaboratif·ve et prêt·e à apprendre.\n\n✨ Intéressé·e? Passe nous voir à la séance d’information du mercredi 10 septembre (17h–19h) chez Press Start pour rencontrer les membres actuels\, poser tes questions et voir si c’est pour toi. Tu peux nous écrire à : pressstart.psc@gmail.com\n\nN’oublie pas de consulter l’offre de bénévolat complète en PDF. Les candidat·e·s seront élu·e·s à notre AGA (date à confirmer).\n\nEn attendant\, visite notre site web pour découvrir le travail significatif que nous avons accompli ces dernières années! 👉 https://pressstartcoop.org/en\n\nTu connais quelqu’un qui serait parfait pour ce rôle? Identifie-le/la\, partage cette annonce et aide-nous à passer le mot.\n\nAtteignons ensemble le prochain niveau de Press Start.\n\n****\nAre you passionate about community\, youth-led projects\, and social impact? Are you between 25 and 35 years old and eager to get involved in shaping the future of a bold and creative organization? \nPress Start\, a cooperative non-profit organization led by and for youth\, is looking for new Board members — and we want you on the team. \n📅 Info SessionWednesday\, September 10🕔 5:00–7:00 PM📍 At Press Start (1900 Rue Le Ber\, Tiohtià:ke / Montréal)Come meet the team\, learn what board involvement looks like\, and ask your questions. \n🔍 Who We’re Looking ForWe’re looking for motivated people — especially youth aged 25 to 35 — who can commit 2 to 10 hours a month depending on the role. You don’t need to be an expert: just committed\, collaborative\, and ready to learn. \n✨ Interested?Drop by our Info Session on Wednesday\, September 10 (5–7 PM) at Press Start to meet current members\, ask your questions\, and see if it’s the right fit for you.You can write to us at: pressstart.psc@gmail.comAnd don’t forget to check out the full volunteer posting in PDF. \nCandidates will be elected at our AGM (date to be confirmed).In the meantime\, visit our website to discover the meaningful work we’ve accomplished over the past few years! 👉 https://pressstartcoop.org/en \nDo you know someone who’d be perfect for this role? Tag them\, share this post\, and help us spread the word. \nLet’s reach the next level of Press Start — together. \n 
URL:https://www.batiment7.org/event/seance-dinfo-recrutement-des-membres-du-ca-press-start-press-start-info-session-for-potential-board-members/
LOCATION:Press Start\, 1900 Rue Le Ber\, Montreal\, Québec\, H3K 2A4\, Canada
CATEGORIES:Bénévolat,Séance d'informations
ATTACH;FMTTYPE=image/jpeg:https://www.batiment7.org/wp-content/uploads/2025/08/Poster_AGM-2025-EN.jpg
ORGANIZER;CN="Press Start Coop":MAILTO:pressstart.psc@gmail.com
END:VEVENT
BEGIN:VEVENT
DTSTART;TZID=America/New_York:20241208T120000
DTEND;TZID=America/New_York:20241208T170000
DTSTAMP:20260424T171454
CREATED:20241204T203720Z
LAST-MODIFIED:20241204T203810Z
UID:10000449-1733659200-1733677200@www.batiment7.org
SUMMARY:[Press-Start] Playdate Swap and Sew
DESCRIPTION:Join this awesome collaboration between Press Start and Growing A.R.C on December 8th. Happening from 12-5pm in the accueil space of batiment 7 during the Marché de Lëon. You are invited to come to a clothing swap and sew!\nWhat is that?A clothing swap with a mending circle! We will have a few sewing machines and helpers around to help mend or adjust clothing from the swap!\nInterested?Please bring clothing to swap and at least 3 items for us to add to our collection drive which will go to local shelters. We’ll be posting a list in the comments for what we’re looking for!\nWe will also have silk screening and free food available for our participants. Come and play with us!—Rejoignez cette collaboration géniale entre Press Start et Growing A.R.C le 8 décembre. L’événement aura lieu de 12h à 17h dans l’espace accueil du batiment 7 pendant la Marché de Lëon. Vous êtes invités à participer à un échange de vêtements et à coudre !\nQu’est-ce que c’est ?Un échange de vêtements avec un cercle de réparation ! Nous aurons quelques machines à coudre et des assistants pour aider à réparer ou ajuster les vêtements de l’échange !\nVous êtes intéressé(e) ?Apportez des vêtements à échanger et au moins 3 articles à ajouter à notre collecte qui ira aux refuges locaux. Nous afficherons une liste de ce que nous recherchons dans les commentaires !\nNous aurons également un service de sérigraphie et de la nourriture gratuite pour nos participants. Venez jouer avec nous !
URL:https://www.batiment7.org/event/press-start-playdate-swap-and-sew/
LOCATION:Press Start\, 1900 Rue Le Ber\, Montreal\, Québec\, H3K 2A4\, Canada
CATEGORIES:Marché,Vêtements
ATTACH;FMTTYPE=image/jpeg:https://www.batiment7.org/wp-content/uploads/2024/12/PS_swap-and-sew.jpg
ORGANIZER;CN="Press Start Coop":MAILTO:pressstart.psc@gmail.com
END:VEVENT
BEGIN:VEVENT
DTSTART;TZID=America/New_York:20241130T200000
DTEND;TZID=America/New_York:20241201T000000
DTSTAMP:20260424T171454
CREATED:20241026T160009Z
LAST-MODIFIED:20241026T160014Z
UID:10000439-1732996800-1733011200@www.batiment7.org
SUMMARY:[Press Start] - After Hours Game Night
DESCRIPTION:Press Start vous invite à une soirée de jeux le 30 novembre ! Des collations\, des boissons et un tournoi vous attendent dans notre salle d’arcade de 20h à minuit !\n\n***\n\nPress Start welcomes you to an after hours game night on November 30th! Snacks\, drinks\, and a tournament await you in some late night gaming from 8pm-late in our arcade!
URL:https://www.batiment7.org/event/press-start-after-hours-game-night/
LOCATION:Press Start\, 1900 Rue Le Ber\, Montreal\, Québec\, H3K 2A4\, Canada
CATEGORIES:Jeux
ATTACH;FMTTYPE=image/png:https://www.batiment7.org/wp-content/uploads/2024/10/press_start.png
ORGANIZER;CN="Press Start Coop":MAILTO:pressstart.psc@gmail.com
END:VEVENT
BEGIN:VEVENT
DTSTART;TZID=America/New_York:20241027T163000
DTEND;TZID=America/New_York:20241027T193000
DTSTAMP:20260424T171454
CREATED:20241026T155016Z
LAST-MODIFIED:20241026T155045Z
UID:10000437-1730046600-1730057400@www.batiment7.org
SUMMARY:[Press Start Coop] - Soirée de films d'Halloween ! / Halloween Movie Night !
DESCRIPTION:Join us this Sunday in the Press Start arcade for an evening of spooky Halloween movies\, popcorn and gaming!\nPG Movies 4:30 until 7:30!**********Rejoignez-nous ce dimanche dans la salle d’arcade Press Start pour une soirée de films d’Halloween effrayants\, de popcorn et de jeux !\nLes films PG commencent à 16h30 jusqu’à 19h30 !
URL:https://www.batiment7.org/event/press-start-coop-soiree-de-films-dhalloween-halloween-movie-night/
LOCATION:Press Start\, 1900 Rue Le Ber\, Montreal\, Québec\, H3K 2A4\, Canada
CATEGORIES:Film
ATTACH;FMTTYPE=image/jpeg:https://www.batiment7.org/wp-content/uploads/2024/10/PS_Halloween-Movie-night.jpg
ORGANIZER;CN="Press Start Coop":MAILTO:pressstart.psc@gmail.com
END:VEVENT
BEGIN:VEVENT
DTSTART;TZID=America/New_York:20241012T193000
DTEND;TZID=America/New_York:20241012T230000
DTSTAMP:20260424T171454
CREATED:20240926T205905Z
LAST-MODIFIED:20240926T205949Z
UID:10000400-1728761400-1728774000@www.batiment7.org
SUMMARY:[Press Start] Big Kids Game Night! // Soirée de jeu pour les Grands
DESCRIPTION:(Français en bas)Join us at our “Big Kids” Adult game night at Press Start on October 12th!\n\nEnjoy competitive video games like Street Fighter 6 and Super Smash Bros.\, cozy silly games (Gang Beast\, Mario Party…) and animated board games such as Werewolf and Uno.+more…\n\nWe’ll have themed mocktails and light cocktails to sip on while you play in a cozy\, respectful atmosphere.\n\nOur doors open at 8pm and the event has a pay-what-you-can entry (6.50$-12$)\n\nCome play\, make some new friends\, relax and enjoy an old-school game night with us at Bâtiment 7!\n\n**\nRejoignez-nous à notre soirée de jeux pour adultes « Les grands enfants » à Press Start le 12 octobre !\n\nProfitez de jeux vidéo compétitifs tels que Street Fighter 6 et Super Smash Bros.\, de jeux amusants (Gang Beast\, Mario Party…) et de jeux de société animés tels que Loup-garou et Uno.+plus…\n\nNous offrons des mocktails thématique et des cocktails légers à savourer tout en jouant dans une atmosphère cosy et respectueuse.\n\nNos portes ouvrent à 20h et le paiement se fait à l’entrée selon vos moyens (6.50$-12$).\n\nVenez jouer\, faites-vous de nouveaux amis\, détendez-vous et profitez d’une soirée de jeu classique avec nous au Bâtiment 7!
URL:https://www.batiment7.org/event/press-start-big-kids-game-night-soiree-de-jeu-pour-les-grands/
LOCATION:Press Start\, 1900 Rue Le Ber\, Montreal\, Québec\, H3K 2A4\, Canada
CATEGORIES:Jeux
ATTACH;FMTTYPE=image/jpeg:https://www.batiment7.org/wp-content/uploads/2024/09/460849440_953151186842975_9031229853977945263_n.jpg
ORGANIZER;CN="Press Start Coop":MAILTO:pressstart.psc@gmail.com
END:VEVENT
BEGIN:VEVENT
DTSTART;TZID=America/New_York:20240622T173000
DTEND;TZID=America/New_York:20240622T173000
DTSTAMP:20260424T171454
CREATED:20240613T151213Z
LAST-MODIFIED:20240613T151253Z
UID:10000384-1719077400-1719077400@www.batiment7.org
SUMMARY:[Press Start] Hip-Hop as Resistance (Nouvelle date à venir)
DESCRIPTION:ÉVÉNEMENT REPORTÉ\nNOUVELLE DATE À VENIR\n\n\n\nHip-Hop comme Résistance est un événement qui célèbre la culture Hip Hop. Cette année\, l’événement mettra en vedette des artistes visuels\, des chanteurs ET une compétition de danse. En outre\, nous projetterons de courtes vidéos ainsi qu’une variété d’ateliers interactifs !\n\n\nEVENT POSTPONED\nNEW DATE TBD\nHip-Hop as Resistance is an event that celebrates Hip Hop culture. This year the event will feature visual artists\, singers AND a dance battle. In addition\, we will be showing short videos as well as a variety of interactive workshops!
URL:https://www.batiment7.org/event/press-start-hip-hop-as-resistance-nouvelle-date-a-venir/
LOCATION:Press Start\, 1900 Rue Le Ber\, Montreal\, Québec\, H3K 2A4\, Canada
CATEGORIES:Art,Danse,Festival
ATTACH;FMTTYPE=image/png:https://www.batiment7.org/wp-content/uploads/2024/06/REPORTE-POSTPONED.png
ORGANIZER;CN="Press Start Coop":MAILTO:pressstart.psc@gmail.com
END:VEVENT
BEGIN:VEVENT
DTSTART;TZID=America/New_York:20240620T180000
DTEND;TZID=America/New_York:20240620T180000
DTSTAMP:20260424T171454
CREATED:20240613T145026Z
LAST-MODIFIED:20240613T145048Z
UID:10000382-1718906400-1718906400@www.batiment7.org
SUMMARY:[Press Start] Art and Activism
DESCRIPTION:Join us for Press Start’s Spring Workshop Series!\nThese workshops are FREEOpen to the public\, but do require registration!And will be held in Press Start on the second floor of Batiment 7! 1900 rue le ber.\nWe would like to thank Desjardin and the Concordia Student Union for helping up make these workshops a reality with their funding.\nSchedule:June 20th @6pm – Art and Activism\n\nOther workshops in this series :\nApril 25th- Housing 101 with the PSC housing committeeMay 9th- Labor 101 with Tricia RobinsonMay 23rd- Digital Literacy: Sourcing and Safety with Rine VietthJune 6th- Anti-Zionism 101 with daphJune 13th- Indigenous Solidarity 101 with Camellia Jahanshahi\nRegister here: https://forms.gle/tn1PUUDGc48XZuVi8\n—\nRejoignez-nous pour la série d’ateliers de printemps de Press Start !\nCes ateliers sont GRATUITSOuverts au public\, mais nécessitent une inscription !Ils se tiendront au Press Start\, au deuxième étage de Batiment 7 ! 1900 rue le ber.\nNous tenons à remercier Desjardins et l’association étudiante de Concordia pour leur soutien financier à la réalisation de ces ateliers.\nHoraire :20 juin à 18h – Art et activisme\nAutres ateliers de cette série :\n25 avril – Logement 101 avec le comité de logement de la CFP9 mai – Travail 101 avec Tricia Robinson23 mai – Littératie numérique : approvisionnement et sécurité avec Rine Vietth6 juin – Anti-zionisme 101 avec daph13 juin – Solidarité autochtone 101 avec Camellia JahanshahiS’inscrire ici: https://forms.gle/tn1PUUDGc48XZuVi8
URL:https://www.batiment7.org/event/press-start/
LOCATION:Press Start\, 1900 Rue Le Ber\, Montreal\, Québec\, H3K 2A4\, Canada
ATTACH;FMTTYPE=image/jpeg:https://www.batiment7.org/wp-content/uploads/2024/06/439244757_846134344211327_8875286331487944989_n.jpg
ORGANIZER;CN="Press Start Coop":MAILTO:pressstart.psc@gmail.com
END:VEVENT
BEGIN:VEVENT
DTSTART;TZID=America/New_York:20240613T180000
DTEND;TZID=America/New_York:20240613T180000
DTSTAMP:20260424T171454
CREATED:20240613T144321Z
LAST-MODIFIED:20240613T144408Z
UID:10000381-1718301600-1718301600@www.batiment7.org
SUMMARY:[Press Start] Anti-O 101
DESCRIPTION:Think Globally\, Act Locally!\nAnti-O 101\n\n\nOur next public workshop is tomorrow evening! In this workshop\, facilitated by one of our coordinators\, we’ll learn some basics around solidarity work with a focus on solidarity with Indigenous communities. We look forward to seeing you at Press Start from 6-8pm!\n\n\n—\nPenser Globalement\, Agir Localement!\nAnti-O 101\n\nNotre prochain atelier public aura lieu demain soir ! Dans cet atelier\, animé par l’un de nos coordinateurs\, nous apprendrons les bases du travail de solidarité en mettant l’accent sur la solidarité avec les communautés autochtones. Nous vous attendons au Press Start de 18h à 20h !
URL:https://www.batiment7.org/event/press-start-anti-o-101/
LOCATION:Press Start\, 1900 Rue Le Ber\, Montreal\, Québec\, H3K 2A4\, Canada
ATTACH;FMTTYPE=image/jpeg:https://www.batiment7.org/wp-content/uploads/2024/06/447994151_1507777193149488_6795191707682420019_n.jpg
ORGANIZER;CN="Press Start Coop":MAILTO:pressstart.psc@gmail.com
END:VEVENT
BEGIN:VEVENT
DTSTART;TZID=America/New_York:20240523T180000
DTEND;TZID=America/New_York:20240523T200000
DTSTAMP:20260424T171454
CREATED:20240509T174413Z
LAST-MODIFIED:20240509T174556Z
UID:10000361-1716487200-1716494400@www.batiment7.org
SUMMARY:[Press-Start] Éducation aux médias : Approvisionnement et sécurité
DESCRIPTION:Éducation aux médias : Approvisionnement et sécurité\nPenser globalement\, agir localement.\nDes détails sur cet atelier sont à venir. \nRejoignez-nous pour la série d’ateliers de printemps de Press Start !\nCes ateliers sont GRATUITSOuverts au public\, mais nécessitent une inscription !Ils se tiendront au Press Start\, au deuxième étage de Batiment 7 ! 1900 rue le ber.\nNous tenons à remercier Desjardins et l’association étudiante de Concordia pour leur soutien financier à la réalisation de ces ateliers.\nHoraire :25 avril – Logement 101 avec le comité de logement de la CFP9 mai – Travail 101 avec Tricia Robinson23 mai – Littératie numérique : approvisionnement et sécurité avec Rine Vietth6 juin – Anti-zionisme 101 avec daph13 juin – Solidarité autochtone 101 avec Camellia Jahanshahi20 juin – Art et activisme\nS’inscrire ici: https://forms.gle/tn1PUUDGc48XZuVi8
URL:https://www.batiment7.org/event/press-start-education-aux-medias-approvisionnement-et-securite/
LOCATION:Press Start\, 1900 Rue Le Ber\, Montreal\, Québec\, H3K 2A4\, Canada
ATTACH;FMTTYPE=image/jpeg:https://www.batiment7.org/wp-content/uploads/2024/05/PS_penser-globallement-prog.jpg
ORGANIZER;CN="Press Start Coop":MAILTO:pressstart.psc@gmail.com
END:VEVENT
BEGIN:VEVENT
DTSTART;TZID=America/New_York:20240509T180000
DTEND;TZID=America/New_York:20240509T200000
DTSTAMP:20260424T171455
CREATED:20240509T161528Z
LAST-MODIFIED:20240509T161635Z
UID:10000351-1715277600-1715284800@www.batiment7.org
SUMMARY:[Press Start] - Droits du travail 101
DESCRIPTION:Droits du travail 101\nPenser Globalement\, Agir localement\nPenser Globalement\, Agir localement  est une série d’ateliers offerts par Press Start.   INSCRIVEZ-VOUS ICI\n\n\n\n\nRejoignez-les ce jeudi 9 mai pour notre atelier avec Tricia !!!\n\n\n\nTricia Robinson est une illustratrice\, une photographe et une organisatrice syndicale établie à Montréal\, au Canada. Son travail ajoute souvent des éléments d’humour et d’espoir à des sujets importants tels que les droits des travailleurs\, le militantisme syndical\, les dangers du capitalisme pour notre bien-être\, et l’importance\, la valeur et la libération future de la classe ouvrière. Sa carrière d’illustratrice coïncide avec son travail au sein des syndicats au Canada\, ainsi qu’avec sa volonté et son désir d’éduquer et d’habiliter authentiquement les travailleurs à lutter collectivement pour leurs droits et à reconnaître l’exploitation sur leur lieu de travail. Elle fait partie du Syndicat général à Montréal\, un nouveau syndicat qui aide les travailleurs à s’organiser et à créer des syndicats combatifs et durables\, que leur lieu de travail compte de 2 à 2000 employés.
URL:https://www.batiment7.org/event/press-start-droits-du-travail-101/
LOCATION:Press Start\, 1900 Rue Le Ber\, Montreal\, Québec\, H3K 2A4\, Canada
CATEGORIES:Atelier
ATTACH;FMTTYPE=image/jpeg:https://www.batiment7.org/wp-content/uploads/2024/05/PS-Droits-des-travailleurs.jpg
ORGANIZER;CN="Press Start Coop":MAILTO:pressstart.psc@gmail.com
END:VEVENT
END:VCALENDAR