BEGIN:VCALENDAR
VERSION:2.0
PRODID:-//Bâtiment 7 - ECPv6.15.20//NONSGML v1.0//EN
CALSCALE:GREGORIAN
METHOD:PUBLISH
X-ORIGINAL-URL:https://www.batiment7.org
X-WR-CALDESC:Événements pour Bâtiment 7
REFRESH-INTERVAL;VALUE=DURATION:PT1H
X-Robots-Tag:noindex
X-PUBLISHED-TTL:PT1H
BEGIN:VTIMEZONE
TZID:America/New_York
BEGIN:DAYLIGHT
TZOFFSETFROM:-0500
TZOFFSETTO:-0400
TZNAME:EDT
DTSTART:20220313T070000
END:DAYLIGHT
BEGIN:STANDARD
TZOFFSETFROM:-0400
TZOFFSETTO:-0500
TZNAME:EST
DTSTART:20221106T060000
END:STANDARD
BEGIN:DAYLIGHT
TZOFFSETFROM:-0500
TZOFFSETTO:-0400
TZNAME:EDT
DTSTART:20230312T070000
END:DAYLIGHT
BEGIN:STANDARD
TZOFFSETFROM:-0400
TZOFFSETTO:-0500
TZNAME:EST
DTSTART:20231105T060000
END:STANDARD
BEGIN:DAYLIGHT
TZOFFSETFROM:-0500
TZOFFSETTO:-0400
TZNAME:EDT
DTSTART:20240310T070000
END:DAYLIGHT
BEGIN:STANDARD
TZOFFSETFROM:-0400
TZOFFSETTO:-0500
TZNAME:EST
DTSTART:20241103T060000
END:STANDARD
END:VTIMEZONE
BEGIN:VEVENT
DTSTART;TZID=America/New_York:20230520T133000
DTEND;TZID=America/New_York:20230520T153000
DTSTAMP:20260423T064631
CREATED:20230505T153610Z
LAST-MODIFIED:20230505T153610Z
UID:10000249-1684589400-1684596600@www.batiment7.org
SUMMARY:Formation de chef.fes de cueillette / Pickleaders training
DESCRIPTION:Voulez-vous organiser vos propres cueillettes pour la saison 2023? C’est la formation qui vous expliquera le fonctionnement du système de gestion des récoltes et l’accès aux points d’équipement.\n\nDo you want to organise fruit harvests for the 2023 season? Come to our pickleader training that will explain how to use our harvest management system and access equipment points.\n\nFormulaire d’inscription / Sign-up form
URL:https://www.batiment7.org/event/formation-de-chef-fes-de-cueillette-pickleaders-training/
LOCATION:Bâtiment 7\, 1900 rue Le Ber\, Montréal\, Québec\, H3K2A4\, Canada
CATEGORIES:Séance d'informations
ATTACH;FMTTYPE=image/jpeg:https://www.batiment7.org/wp-content/uploads/2023/05/242175219_2127329694075146_7362734607016104961_n.jpg
END:VEVENT
END:VCALENDAR