BEGIN:VCALENDAR
VERSION:2.0
PRODID:-//Bâtiment 7 - ECPv6.15.20//NONSGML v1.0//EN
CALSCALE:GREGORIAN
METHOD:PUBLISH
X-WR-CALNAME:Bâtiment 7
X-ORIGINAL-URL:https://www.batiment7.org
X-WR-CALDESC:Événements pour Bâtiment 7
REFRESH-INTERVAL;VALUE=DURATION:PT1H
X-Robots-Tag:noindex
X-PUBLISHED-TTL:PT1H
BEGIN:VTIMEZONE
TZID:UTC
BEGIN:STANDARD
TZOFFSETFROM:+0000
TZOFFSETTO:+0000
TZNAME:UTC
DTSTART:20210101T000000
END:STANDARD
END:VTIMEZONE
BEGIN:VEVENT
DTSTART;TZID=UTC:20220522T140000
DTEND;TZID=UTC:20220522T153000
DTSTAMP:20260424T155852
CREATED:20220518T223535Z
LAST-MODIFIED:20220518T223535Z
UID:10000077-1653228000-1653233400@www.batiment7.org
SUMMARY:Upcycling : édition semis
DESCRIPTION:Le Retour du Upcycling !  C’est une nouvelle saison\, alors nous commençons une nouvelle série d’ateliers d’upcycling ! Rejoignez-nous\, masqués et en personne\, aux dates suivantes pour vous amuser de manière écologiquement durable !\n*Veuillez noter quelques changements de dates\n22 mai\, 14h-15h30\n5 juin\, 14h-15h30\n19 juin\, 14h-15h30\n\nUpcycling Returns!:  It’s a new season so we are starting a new series of upcycling workshops! Join us\, masked and in person on the following dates for some environmentally sustainable fun!\n*please note some date changes*\nMay 22nd\, 2-3:30- seeds part two!\nJune 5th\, 2-3:30\nJune 19th\, 2-3:30
URL:https://www.batiment7.org/event/upcycling-edition-semis/
LOCATION:Bâtiment 7\, 1900 rue Le Ber\, Montréal\, Québec\, H3K2A4\, Canada
ATTACH;FMTTYPE=image/png:https://www.batiment7.org/wp-content/uploads/2022/05/2-1.png
ORGANIZER;CN="Press Start Coop":MAILTO:pressstart.psc@gmail.com
END:VEVENT
BEGIN:VEVENT
DTSTART;TZID=UTC:20220520T170000
DTEND;TZID=UTC:20220520T183000
DTSTAMP:20260424T155852
CREATED:20220518T223245Z
LAST-MODIFIED:20220518T223245Z
UID:10000076-1653066000-1653071400@www.batiment7.org
SUMMARY:Clowning around
DESCRIPTION:Clowning Around : Déconstruire le Genre par le biais de la Drague et du Clown\nRejoignez les artistes de performance queer Phoenix Inana et Mina Minou le 20 mai de 17h à 18h30 pour un atelier basé sur la déconstruction des stéréotypes de genre et l’exploration personnelle à travers la drague ! Retrouvez notre événement facebook ici\, https://fb.me/e/4uSJD1jke et n’hésitez pas à nous contacter pour toute question.\n\n\n\nClowning Around: Deconstructing Gender Through Drag and Clowning\nJoin local queer performance artists Phoenix Inana and Mina Minou on May 20th from 5-6:30pm for a workshop based around breaking down gender stereotypes and personal exploration through drag! Find the facebook event here: https://fb.me/e/4uSJD1jke and feel free to e-mail with any questions!
URL:https://www.batiment7.org/event/clowning-around/
LOCATION:Bâtiment 7\, 1900 rue Le Ber\, Montréal\, Québec\, H3K2A4\, Canada
CATEGORIES:Atelier
ATTACH;FMTTYPE=image/png:https://www.batiment7.org/wp-content/uploads/2022/05/2.png
ORGANIZER;CN="Press Start Coop":MAILTO:pressstart.psc@gmail.com
END:VEVENT
END:VCALENDAR